Workbook
Name \a: #REF!
Name \B: #REF!
Name \C: #REF!
Name \d: #REF!
Name \E: #REF!
Name \F: #REF!
Name \G: #REF!
Name \p: #REF!
Name \s: #REF!
Name \z: #REF!
Name _: #REF!
Name _.dbf: #REF!
Name _?: #REF!
Name _??????: #REF!
Name __?: #REF!
Name __??????: #REF!
Name ___?: #REF!
Name ___??????: #REF!
Name ____?: #REF!
Name ____??????: #REF!
Name _____?: #REF!
Name _____??????: #REF!
Name ______?: #REF!
Name ______??????: #REF!
Name _______?: #REF!
Name _______??????: #REF!
Name ________?: #REF!
Name ________??????: #REF!
Name _________?: #REF!
Name _________??????: #REF!
Name ________________km1: #REF!
Name _______________km1: #REF!
Name _____________km1: #REF!
Name _____________pgz101: #REF!
Name _____________pgz102: #REF!
Name _____________pgz103: #REF!
Name _____________pgz104: #REF!
Name _____________pgz105: #REF!
Name _____________pgz106: #REF!
Name _____________pgz511: #REF!
Name _____________pgz512: #REF!
Name _____________pgz513: #REF!
Name _____________pgz521: #REF!
Name _____________pgz522: #REF!
Name _____________pgz523: #REF!
Name _____________pgz53: #REF!
Name _____________pgz541: #REF!
Name _____________pgz542: #REF!
Name _____________pgz55: #REF!
Name _____________pgz56: #REF!
Name _____________pgz61: #REF!
Name _____________pgz62: #REF!
Name _____________pgz71: #REF!
Name _____________pgz72: #REF!
Name _____________pgz81: #REF!
Name _____________pgz82: #REF!
Name _____________pgz91: #REF!
Name _____________pgz910: #REF!
Name _____________pgz911: #REF!
Name _____________pgz912: #REF!

Sheet 明细表模板信息表
A1: 模板信息 | B1: 内容
A2: 模板版本 | B2: V1.0.0.0
A3: 文档版本 | B3: cb0001

Sheet 申报表封面
A5: XXX资产评估项目
A8: 评估申报明细表
A10: ="评估基准日："&TEXT(基本信息输入表!M7,"yyyy年mm月dd日") -> 评估基准日：2025年11月30日
C13: 被评估单位：
C16: 企业负责人：xxx | G16: 财务负责人：xxx
C19: 填表人：xxx | G19: 填表人电话：xxx

Sheet 资产基础法评估明表工作流程图
B2: 资产基础法操作导航图（点击并完成各模块的任务）V1.0
D3: 01 | H3: 02 | L3: 03 | P3: 04 | T3: 05
B8: 01 | D8: 阅读填表说明 | H8: 数据输入 | L8: 核对资料 | P8: 方法确定 | T8: 结果分析
B10: 02 | D10: 数据输入★ | H10: 报表核对 | L10: 履行调查核实程序 | P10: 取价方式 | T10: 评估调整
B12: 03 | D12: 报表核对★ | L12: 账实调查结果 | P12: 参数输入 | T12: 打印输出
B14: 04 | L14: 产权调查结果 | P14: 评估测算
B18: 备注：每个科目按照以上程序完成

Sheet 索引目录
A1: 资产评估申报表索引目录
B2: 基本信息输入表
B3: 填表说明（填表前请先阅读）
B4: 企业基本情况表 | C4: 资产负债表 | D4: 汇总表 | E4: 分类汇总表
C6: 流动资产 | D6: 货币资金 | E6: 现金 | G6: 流动负债 | I6: 短期借款
E7: 银行存款 | I7: 交易性金融负债
E8: 其他货币资金 | I8: 应付票据
D9: 交易性金融资产 | E9: 股票投资 | I9: 应付账款
E10: 债券投资 | I10: 预收款项
I11: 合同负债
E12: 基金投资 | I12: 职工薪酬
D13: 衍生金融资产
D14: 应收票据 | I14: 应交税费
D15: 应收账款 | I15: 应付利息
D16: 应收款项融资
D17: 预付款项 | I17: 应付股利（应付利润）
I18: 其他应付款
I19: 一年内到期的非流动负债
D20: 其他应收款 | I20: 其他流动负债
D21: 存货 | E21: 材料采购（在途物资）
E22: 原材料
E23: 在库周转材料 | G23: 非流动负债 | I23: 长期借款
E24: 委托加工物资 | I24: 应付债券
E25: 产成品（库存商品） | I25: 长期应付款
E26: 在产品（自制半成品） | I26: 专项应付款
E27: 发出商品 | I27: 预计负债
D28: 合同资产 | E28: 在用周转材料 | I28: 递延所得税负债
D29: 持有待售资产
D30: 一年到期非流动资产 | E30: 开发产品 | I30: 其他非流动负债
D31: 其他流动资产 | E31: 开发成本
E32: 消耗性生物资产
E33: 工程施工
C35: 非流动资产 | D35: 可供出售金融资产 | E35: 股票投资
E36: 债券投资
E37: 其他投资
D38: 持有至到期投资
D39: 长期应收款
D40: 长期股权投资
D41: 投资性房地产 | E41: 投资性房地产（成本计量）
E42: 投资性房地产（公允计量）
...

Sheet 基本信息输入表
A1: 返回索引目录
A5: 一、项目基本信息
B6: 1.企业名称（输入）： | K6: 产权持有人 | M6: 湖北省徽工生物技本研究有限公司
B7: 2.评估基准日（选择）： | M7: 45991
B8: 3.评估机构名称： | M8: 永业行土地房地产资产评估有限公司
B9: 4.项目名称：
B10: 5.金额单位： | M10: 人民币
B11: 6.填表人及填表日期：
C12: 选择 | D12: 科目 | M12: 填表人员姓名 | O12: 填表日期 | Q12: 评估人员
C13: √ | D13: 流动资产（汇总） | M13: 袁佳 | O13: 46006 | Q13: 韩策
C14: √ | D14: 货币资金（汇总） | M14: 袁佳 | O14: 46006 | Q14: 韩策
C15: √ | D15: 现金 | M15: 袁佳 | O15: 46006 | Q15: 韩策
C16: √ | D16: 银行存款 | M16: 袁佳 | O16: 46006 | Q16: 韩策
C17: √ | D17: 货币资金 | M17: 袁佳 | O17: 46006 | Q17: 韩策
C18: √ | D18: 交易性金融资产（汇总） | M18: 袁佳 | O18: 46006 | Q18: 韩策
C19: √ | D19: 股票投资 | M19: 袁佳 | O19: 46006 | Q19: 韩策
C20: √ | D20: 债券投资 | M20: 袁佳 | O20: 46006 | Q20: 韩策
C21: √ | D21: 基金投资 | M21: 袁佳 | O21: 46006 | Q21: 韩策
C22: √ | D22: 衍生金融资产 | M22: 袁佳 | O22: 46006 | Q22: 韩策
C23: √ | D23: 应收票据 | M23: 袁佳 | O23: 46006 | Q23: 韩策
C24: √ | D24: 应收帐款 | M24: 袁佳 | O24: 46006 | Q24: 韩策
... C105: √ | D105: 其他非流动负债 | M105: 袁佳 | O105: 46006 | Q105: 韩策

Sheet 填表说明
B1: 评估明细表填表说明
B3: 一、基本要求
B4: (一)填表范围：
B5: 对于纳入评估范围的各科目明细表余额要保证与评估基准日被评估单位的资产负债表（或模拟资产负债表）完全一致，如出现差异，请核对链接关系及所填报明细是否有误。
B6: (二)“评估基准日”、“被评估单位(或者产权持有单位)名称”、填表人、填表日期,统一在“基本信息输入表” 中填列，各明细表会自动生成。单位名称要与该单位的营业执照所列示的名称完全一致,如经检查各明细表与报表的余额数据完全一致，填表人员需与评估人员沟通无异议后再在打印好的A4纸每页明细表左上角单位名称处加盖单位公章上报。
B7: (三)对于企业财务核算中没有的会计科目不必填写相应的明细表，对应明细表可隐藏但不可删除。
B8: (四) 对于各科目明细表中“评估价值”一栏(不含本栏)左方的所有空白栏以及需要填写的备注栏项目请企业填写齐全。尤其对于实物类资产的评估作价密切相关信息需填报完整，不要出现空白项，该类信息往往包括规格、厂家、单位、数量、产权证号、产权人名称、车辆行驶里程、不良资产实际状态等，需要由资产管理相关部门协助财务人员进行填报。
B9: (五)明细表中填列金额单位为“人民币元”，精确到小数点后两位。
B10: (六)明细表中日期根据要求填至月(如建成年月)或日(如出票日期)，填写日期格式为“2001-05”（不能写为2001.5）或 “2001-05-02”（不能填为2001.5.2）。
B11: (七)未指明月利率之处应指年利率，计量单位为“%”。若原始资料中为月利率或日利率,则换算为年利率。
B12: (八)明细表与各级汇总表之间的数据已建立链接关系，带“汇总”字样的各明细表中除个别项的减值准备外，其他项中不应直接录入数据。
B13: (九)每一张明细表内容超过表中行数时，可在电子表中间直接插入行。注意，不能在第一行和合计行插入行。
... B192: ******

Sheet 资产负债表
A1: 返回索引页
A2: 资产负债表
A3: ="评估基准日："&TEXT(基本信息输入表!M7,"yyyy年mm月dd日") -> 评估基准日：2025年11月30日
A4: =基本信息输入表!K6&"："&基本信息输入表!M6 -> 产权持有人：湖北省徽工生物技本研究有限公司 | F4: ="金额单位："&基本信息输入表!M10&"元" -> 金额单位：人民币元
A5: 资产 | B5: 基准日未审数 | C5: 基准日审定数 | D5: 负债和所有者权益 | E5: 基准日未审数 | F5: 基准日审定数
A6: 流动资产： | D6: 流动负债：
A7: 货币资金 | D7: 短期借款
A8: 交易性金融资产 | D8: 交易性金融负债
A9: 衍生金融资产 | D9: 衍生金融负债
A10: 应收票据 | D10: 应付票据
A11: 应收账款 | D11: 应付账款
A12: 应收款项融资 | D12: 预收款项
A13: 预付款项 | D13: 合同负债
A14: 其他应收款 | D14: 应付职工薪酬
A15: 存货 | D15: 应交税费
A16: 合同资产 | D16: 其他应付款
A17: 持有待售资产 | D17: 持有待售负债
... A19: 其他流动资产 | D19: 其他流动负债
A20: 流动资产合计 | B20: =SUM(B7:B19) -> 0 | C20: =SUM(C7:C19) -> 0 | D20: 流动负债合计 | E20: =SUM(E7:E19) -> 0 | F20: =SUM(F7:F19) -> 0
A21: 非流动资产： | D21: 非流动负债：
A22: 债权投资 | D22: 长期借款
A23: 其他债权投资 | D23: 应付债券
A24: 长期应收款 | D24: 租赁负债
A25: 长期股权投资 | D25: 长期应付款
A26: 其他权益工具投资 | D26: 预计负债
A27: 其他非流动金融资产 | D27: 递延收益
A28: 投资性房地产 | D28: 递延所得税负债
A29: 固定资产 | D29: 其他非流动负债
A30: 在建工程 | D30: 非流动负债合计 | E30: =SUM(E22:E29) -> 0 | F30: =SUM(F22:F29) -> 0
A31: 生产性生物资产 | D31: 负债合计 | E31: =E30+E20 -> 0 | F31: =F30+F20 -> 0
A32: 油气资产 | D32: 所有者权益：
A33: 使用权资产 | D33: 实收资本（或股本）
A34: 无形资产 | D34: 资本公积
A35: 开发支出 | D35: 减：库存股
A36: 商誉 | D36: 专项储备
A37: 长期待摊费用 | D37: 盈余公积
A38: 递延所得税资产 | D38: 未分配利润
A39: 其他非流动资产 | D39: 外币报表折算差额
A40: 非流动资产合计 | B40: =SUM(B22:B39) -> 0 | C40: =SUM(C22:C39) -> 0 | D40: 所有者权益合计 | E40: =SUM(E33:E34,E36:E39)-E35 -> 0 | F40: =SUM(F33:F34,F36:F39)-F35 -> 0
A41: 资产总计 | B41: =B20+B40 -> 0 | C41: =C20+C40 -> 0 | D41: 负债和所有者权益总计 | E41: =E31+E40 -> 0 | F41: =F31+F40 -> 0

Sheet 2-分类汇总
A1: 返回索引目录
A2: 资产评估结果分类汇总表
A3: ="评估基准日："&TEXT(基本信息输入表!M7,"yyyy年mm月dd日") -> 评估基准日：2025年11月30日
G4: 表2
A5: =基本信息输入表!K6&"："&基本信息输入表!M6 -> 产权持有人：湖北省徽工生物技本研究有限公司 | G5: ="金额单位："&基本信息输入表!M10&"元" -> 金额单位：人民币元
A6: 序号 | B6: 科目名称 | C6: 审定前账面价值 | D6: 账面价值 | E6: 评估价值 | F6: 增减值 | G6: 增值率% | H6: 资产负债表校核列 | I6: 资产负债表数
A7: 1 | B7: 一、流动资产合计 | C7: ='3-流动汇总'!C31 -> 0 | D7: ='3-流动汇总'!D31 -> 0 | E7: ='3-流动汇总'!E31 -> 0 | F7: =E7-D7 -> 0 | G7: =IF(D7=0,"",F7/ABS(D7)*100) | H7: =IF(ABS(D7-资产负债表!C20)<0.01,"True","Wrong") -> True | I7: =资产负债表!C20 -> 0 | J7: =D7-资产负债表!C20 -> 0
A8: 2 | B8: 货币资金 | C8: ='3-流动汇总'!C7 -> 0 | D8: ='3-流动汇总'!D7 -> 0 | E8: ='3-流动汇总'!E7 -> 0 | F8: =E8-D8 -> 0 | G8: =IF(D8=0,"",F8/ABS(D8)*100) | H8: =IF(ABS(D8-资产负债表!C7)<0.01,"True","Wrong") -> True | I8: =资产负债表!C7 -> 0 | J8: =D8-资产负债表!C7 -> 0
A9: 3 | B9: 交易性金融资产 | C9: ='3-流动汇总'!C8 -> 0 | D9: ='3-流动汇总'!D8 -> 0 | E9: ='3-流动汇总'!E8 -> 0 | F9: =E9-D9 -> 0 | G9: =IF(D9=0,"",F9/ABS(D9)*100) | H9: =IF(ABS(D9-资产负债表!C8)<0.01,"True","Wrong") -> True | I9: =资产负债表!C8 -> 0 | J9: =D9-资产负债表!C8 -> 0
A10: 4 | B10: 衍生金融资产 | C10: ='3-流动汇总'!C9 -> 0 | D10: ='3-流动汇总'!D9 -> 0 | E10: ='3-流动汇总'!E9 -> 0 | F10: =E10-D10 -> 0 | G10: =IF(D10=0,"",F10/ABS(D10)*100) | H10: =IF(ABS(D10-资产负债表!C9)<0.01,"True","Wrong") -> True | I10: =资产负债表!C9 -> 0 | J10: =D10-资产负债表!C9 -> 0
A11: 5 | B11: 应收票据 | C11: ='3-流动汇总'!C10 -> 0 | D11: ='3-流动汇总'!D10 -> 0 | E11: ='3-流动汇总'!E10 -> 0 | F11: =E11-D11 -> 0 | G11: =IF(D11=0,"",F11/ABS(D11)*100) | H11: =IF(ABS(D11-资产负债表!C10)<0.01,"True","Wrong") -> True | I11: =资产负债表!C10 -> 0 | J11: =D11-资产负债表!C10 -> 0
A12: 6 | B12: 应收账款合计 | C12: ='3-流动汇总'!C11 -> 0 | D12: ='3-流动汇总'!D11 -> 0 | E12: ='3-流动汇总'!E11 -> 0 | F12: =E12-D12 -> 0 | G12: =IF(D12=0,"",F12/ABS(D12)*100)
A13: 7 | B13: 减：坏帐准备 | C13: ='3-流动汇总'!C12 -> 0 | D13: ='3-流动汇总'!D12 -> 0 | E13: ='3-流动汇总'!E12 -> 0 | F13: =E13-D13 -> 0 | G13: =IF(D13=0,"",F13/ABS(D13)*100)
A14: 8 | B14: 应收帐款净额 | C14: ='3-流动汇总'!C13 -> 0 | D14: ='3-流动汇总'!D13 -> 0 | E14: ='3-流动汇总'!E13 -> 0 | F14: =E14-D14 -> 0 | G14: =IF(D14=0,"",F14/ABS(D14)*100) | H14: =IF(ABS(D14-资产负债表!C11)<0.01,"True","Wrong") -> True | I14: =资产负债表!C11 -> 0 | J14: =D14-资产负债表!C11 -> 0
A15: 9 | B15: 应收款项融资 | C15: ='3-流动汇总'!C14 -> 0 | D15: ='3-流动汇总'!D14 -> 0 | E15: ='3-流动汇总'!E14 -> 0 | F15: =E15-D15 -> 0 | G15: =IF(D15=0,"",F15/ABS(D15)*100) | H15: =IF(ABS(D15-资产负债表!C12)<0.01,"True","Wrong") -> True | I15: =资产负债表!C12 -> 0 | J15: =D15-资产负债表!C12 -> 0
A16: 10 | B16: 预付款项 | C16: ='3-流动汇总'!C15 -> 0 | D16: ='3-流动汇总'!D15 -> 0 | E16: ='3-流动汇总'!E15 -> 0 | F16: =E16-D16 -> 0 | G16: =IF(D16=0,"",F16/ABS(D16)*100) | H16: =IF(ABS(D16-资产负债表!C13)<0.01,"True","Wrong") -> True | I16: =资产负债表!C13 -> 0 | J16: =D16-资产负债表!C13 -> 0
A17: 11 | B17: 其他应收款合计 | C17: ='3-流动汇总'!C16 -> 0 | D17: ='3-流动汇总'!D16 -> 0 | E17: ='3-流动汇总'!E16 -> 0 | F17: =E17-D17 -> 0 | G17: =IF(D17=0,"",F17/ABS(D17)*100)
A18: 12 | B18: 减：坏帐准备 | C18: ='3-流动汇总'!C17 -> 0 | D18: ='3-流动汇总'!D17 -> 0 | E18: ='3-流动汇总'!E17 -> 0 | F18: =E18-D18 -> 0 | G18: =IF(D18=0,"",F18/ABS(D18)*100)
A19: 13 | B19: 其他应收款净额 | C19: ='3-流动汇总'!C18 -> 0 | D19: ='3-流动汇总'!D18 -> 0 | E19: ='3-流动汇总'!E18 -> 0 | F19: =E19-D19 -> 0 | G19: =IF(D19=0,"",F19/ABS(D19)*100) | H19: =IF(ABS(D19-资产负债表!C14)<0.01,"True","Wrong") -> True | I19: =资产负债表!C14 -> 0 | J19: =D19-资产负债表!C14 -> 0
A20: 14 | B20: 存货合计 | C20: ='3-流动汇总'!C19 -> 0 | D20: ='3-流动汇总'!D19 -> 0 | E20: ='3-流动汇总'!E19 -> 0 | F20: =E20-D20 -> 0 | G20: =IF(D20=0,"",F20/ABS(D20)*100)
A21: 15 | B21: 减：存货跌价准备 | C21: ='3-流动汇总'!C20 -> 0 | D21: ='3-流动汇总'!D20 -> 0 | E21: ='3-流动汇总'!E20 -> 0 | F21: =E21-D21 -> 0 | G21: =IF(D21=0,"",F21/ABS(D21)*100)
A22: 16 | B22: 存货净额 | C22: ='3-流动汇总'!C21 -> 0 | D22: ='3-流动汇总'!D21 -> 0 | E22: ='3-流动汇总'!E21 -> 0 | F22: =E22-D22 -> 0 | G22: =IF(D22=0,"",F22/ABS(D22)*100) | H22: =IF(ABS(D22-资产负债表!C15)<0.01,"True","Wrong") -> True | I22: =资产负债表!C15 -> 0 | J22: =D22-资产负债表!C15 -> 0
A23: 17 | B23: 合同资产 | C23: ='3-流动汇总'!C22 -> 0 | D23: ='3-流动汇总'!D22 -> 0 | E23: ='3-流动汇总'!E22 -> 0 | F23: =E23-D23 -> 0 | G23: =IF(D23=0,"",F23/ABS(D23)*100)
A24: 18 | B24: 减：合同资产减值准备 | C24: ='3-流动汇总'!C23 -> 0 | D24: ='3-流动汇总'!D23 -> 0 | E24: ='3-流动汇总'!E23 -> 0 | F24: =E24-D24 -> 0 | G24: =IF(D24=0,"",F24/ABS(D24)*100)
A25: 19 | B25: 合同资产净额 | C25: ='3-流动汇总'!C24 -> 0 | D25: ='3-流动汇总'!D24 -> 0 | E25: ='3-流动汇总'!E24 -> 0 | F25: =E25-D25 -> 0 | G25: =IF(D25=0,"",F25/ABS(D25)*100) | H25: =IF(ABS(D25-资产负债表!C16)<0.01,"True","Wrong") -> True | I25: =资产负债表!C16 -> 0 | J25: =D25-资产负债表!C16 -> 0
A26: 20 | B26: 持有待售资产 | C26: ='3-流动汇总'!C25 -> 0 | D26: ='3-流动汇总'!D25 -> 0 | E26: ='3-流动汇总'!E25 -> 0 | F26: =E26-D26 -> 0 | G26: =IF(D26=0,"",F26/ABS(D26)*100) | H26: =IF(ABS(D26-资产负债表!C17)<0.01,"True","Wrong") -> True | I26: =资产负债表!C17 -> 0 | J26: =D26-资产负债表!C17 -> 0
A27: 21 | B27: 一年内到期的非流动资产 | C27: ='3-流动汇总'!C26 -> 0 | D27: ='3-流动汇总'!D26 -> 0 | E27: ='3-流动汇总'!E26 -> 0 | F27: =E27-D27 -> 0 | G27: =IF(D27=0,"",F27/ABS(D27)*100) | H27: =IF(ABS(D27-资产负债表!C18)<0.01,"True","Wrong") -> True | I27: =资产负债表!C18 -> 0 | J27: =D27-资产负债表!C18 -> 0
A28: 22 | B28: 其他流动资产 | C28: ='3-流动汇总'!C27 -> 0 | D28: ='3-流动汇总'!D27 -> 0 | E28: ='3-流动汇总'!E27 -> 0 | F28: =E28-D28 -> 0 | G28: =IF(D28=0,"",F28/ABS(D28)*100) | H28: =IF(ABS(D28-资产负债表!C19)<0.01,"True","Wrong") -> True | I28: =资产负债表!C19 -> 0 | J28: =D28-资产负债表!C19 -> 0
A29: 23 | B29: 二、非流动资产合计 | C29: ='4-非流动资产汇总'!C47 -> #REF! | D29: ='4-非流动资产汇总'!D47 -> #REF! | E29: ='4-非流动资产汇总'!E47 -> #REF! | F29: =E29-D29 -> #REF! | G29: =IF(D29=0,"",F29/ABS(D29)*100) -> #REF! | H29: =IF(ABS(D29-资产负债表!C40)<0.01,"True","Wrong") -> #REF! | I29: =资产负债表!C40 -> 0 | J29: =D29-资产负债表!C40 -> #REF!
A30: 24 | B30: 债权投资 | C30: ='4-非流动资产汇总'!C7 -> 0 | D30: ='4-非流动资产汇总'!D7 -> 0 | E30: ='4-非流动资产汇总'!E7 -> 0 | F30: =E30-D30 -> 0 | G30: =IF(D30=0,"",F30/ABS(D30)*100) | H30: =IF(ABS(D30-资产负债表!C22)<0.01,"True","Wrong") -> True | I30: =资产负债表!C22 -> 0 | J30: =D30-资产负债表!C22 -> 0
A31: 25 | B31: 其他债权投资 | C31: ='4-非流动资产汇总'!C8 -> 0 | D31: ='4-非流动资产汇总'!D8 -> 0 | E31: ='4-非流动资产汇总'!E8 -> 0 | F31: =E31-D31 -> 0 | G31: =IF(D31=0,"",F31/ABS(D31)*100) | H31: =IF(ABS(D31-资产负债表!C23)<0.01,"True","Wrong") -> True | I31: =资产负债表!C23 -> 0 | J31: =D31-资产负债表!C23 -> 0
A32: 26 | B32: 长期应收款 | C32: ='4-非流动资产汇总'!C9 -> 0 | D32: ='4-非流动资产汇总'!D9 -> 0 | E32: ='4-非流动资产汇总'!E9 -> 0 | F32: =E32-D32 -> 0 | G32: =IF(D32=0,"",F32/ABS(D32)*100) | H32: =IF(ABS(D32-资产负债表!C24)<0.01,"True","Wrong") -> True | I32: =资产负债表!C24 -> 0 | J32: =D32-资产负债表!C24 -> 0
A33: 27 | B33: 长期股权投资合计 | C33: ='4-非流动资产汇总'!C10 -> 0 | D33: ='4-非流动资产汇总'!D10 -> 0 | E33: ='4-非流动资产汇总'!E10 -> 0 | F33: =E33-D33 -> 0 | G33: =IF(D33=0,"",F33/ABS(D33)*100)
A34: 28 | B34: 减：长期股权投资减值准备 | C34: ='4-非流动资产汇总'!C11 -> 0 | D34: ='4-非流动资产汇总'!D11 -> 0 | E34: ='4-非流动资产汇总'!E11 -> 0 | F34: =E34-D34 -> 0 | G34: =IF(D34=0,"",F34/ABS(D34)*100)
A35: 29 | B35: 长期股权投资净额 | C35: ='4-非流动资产汇总'!C12 -> 0 | D35: ='4-非流动资产汇总'!D12 -> 0 | E35: ='4-非流动资产汇总'!E12 -> 0 | F35: =E35-D35 -> 0 | G35: =IF(D35=0,"",F35/ABS(D35)*100) | H35: =IF(ABS(D35-资产负债表!C25)<0.01,"True","Wrong") -> True | I35: =资产负债表!C25 -> 0 | J35: =D35-资产负债表!C25 -> 0
A36: 30 | B36: 其他权益工具投资 | C36: ='4-非流动资产汇总'!C13 -> 0 | D36: ='4-非流动资产汇总'!D13 -> 0 | E36: ='4-非流动资产汇总'!E13 -> 0 | F36: =E36-D36 -> 0 | G36: =IF(D36=0,"",F36/ABS(D36)*100) | H36: =IF(ABS(D36-资产负债表!C26)<0.01,"True","Wrong") -> True | I36: =资产负债表!C26 -> 0 | J36: =D36-资产负债表!C26 -> 0
A37: 31 | B37: 其他非流动金融资产 | C37: ='4-非流动资产汇总'!C14 -> 0 | D37: ='4-非流动资产汇总'!D14 -> 0 | E37: ='4-非流动资产汇总'!E14 -> 0 | F37: =E37-D37 -> 0 | G37: =IF(D37=0,"",F37/ABS(D37)*100) | H37: =IF(ABS(D37-资产负债表!C27)<0.01,"True","Wrong") -> True | I37: =资产负债表!C27 -> 0 | J37: =D37-资产负债表!C27 -> 0
A38: 32 | B38: 投资性房地产合计 | C38: ='4-非流动资产汇总'!C15 -> 0 | D38: ='4-非流动资产汇总'!D15 -> 0 | E38: ='4-非流动资产汇总'!E15 -> 0 | F38: =E38-D38 -> 0 | G38: =IF(D38=0,"",F38/ABS(D38)*100)
A39: 33 | B39: 减：投资性房地产减值准备 | C39: ='4-非流动资产汇总'!C16 -> 0 | D39: ='4-非流动资产汇总'!D16 -> 0 | E39: ='4-非流动资产汇总'!E16 -> 0 | F39: =E39-D39 -> 0 | G39: =IF(D39=0,"",F39/ABS(D39)*100)
A40: 34 | B40: 投资性房地产净额 | C40: ='4-非流动资产汇总'!C17 -> 0 | D40: ='4-非流动资产汇总'!D17 -> 0 | E40: ='4-非流动资产汇总'!E17 -> 0 | F40: =E40-D40 -> 0 | G40: =IF(D40=0,"",F40/ABS(D40)*100) | H40: =IF(ABS(D40-资产负债表!C28)<0.01,"True","Wrong") -> True | I40: =资产负债表!C28 -> 0 | J40: =D40-资产负债表!C28 -> 0
...

Sheet 3-流动汇总
A1: 返回索引目录
A2: 流动资产评估汇总表
A3: ="评估基准日："&TEXT(基本信息输入表!M7,"yyyy年mm月dd日") -> 评估基准日：2025年11月30日
G4: 表3
A5: =基本信息输入表!K6&"："&基本信息输入表!M6 -> 产权持有人：湖北省徽工生物技本研究有限公司 | G5: ="金额单位："&基本信息输入表!M10&"元" -> 金额单位：人民币元
A6: 编号 | B6: 科目名称 | C6: 审定前账面价值 | D6: 账面价值 | E6: 评估价值 | F6: 增减值 | G6: 增值率%
A7: 3-1 | B7: 货币资金 | C7: ='表3-1货币汇总表'!C27 -> 0 | D7: ='表3-1货币汇总表'!D27 -> 0 | E7: ='表3-1货币汇总表'!E27 -> 0 | F7: =E7-D7 -> 0 | G7: =IF(D7=0,"",F7/D7*100)
A8: 3-2 | B8: 交易性金融资产 | C8: ='3-2交易性金融资产汇总'!C27 -> 0 | D8: ='3-2交易性金融资产汇总'!D27 -> 0 | E8: ='3-2交易性金融资产汇总'!E27 -> 0 | F8: =E8-D8 -> 0 | G8: =IF(D8=0,"",F8/D8*100)
A9: 3-3 | B9: 衍生金融资产 | C9: ='3-3衍生金融资产'!F27 -> 0 | D9: ='3-3衍生金融资产'!G27 -> 0 | E9: ='3-3衍生金融资产'!H27 -> 0 | F9: =E9-D9 -> 0 | G9: =IF(D9=0,"",F9/D9*100)
A10: 3-4 | B10: 应收票据 | C10: ='3-4应收票据'!F25 -> 0 | D10: ='3-4应收票据'!G25 -> 0 | E10: ='3-4应收票据'!H25 -> 0 | F10: =E10-D10 -> 0 | G10: =IF(D10=0,"",F10/D10*100)
A11: 3-5 | B11: 应收账款合计 | C11: ='3-5应收账款'!O20 -> 0 | D11: ='3-5应收账款'!Q20 -> 0 | E11: ='3-5应收账款'!S23 -> 0 | F11: =E11-D11 -> 0 | G11: =IF(D11=0,"",F11/D11*100)
B12: 减：坏帐准备 | C12: ='3-5应收账款'!O21 -> 0 | D12: ='3-5应收账款'!Q21 -> 0 | F12: =E12-D12 -> 0 | G12: =IF(D12=0,"",F12/D12*100)
B13: 应收帐款净额 | C13: =C11-C12 -> 0 | D13: =D11-D12 -> 0 | E13: =E11-E12 -> 0 | F13: =E13-D13 -> 0 | G13: =IF(D13=0,"",F13/D13*100)
A14: 3-6 | B14: 应收款项融资 | C14: ='3-6应收款项融资'!F25 -> 0 | D14: ='3-6应收款项融资'!G25 -> 0 | E14: ='3-6应收款项融资'!H25 -> 0 | F14: =E14-D14 -> 0 | G14: =IF(D14=0,"",F14/D14*100)
A15: 3-7 | B15: 预付款项 | C15: ='3-7预付款项'!P26 -> 0 | D15: ='3-7预付款项'!Q26 -> 0 | E15: ='3-7预付款项'!S26 -> 0 | F15: =E15-D15 -> 0 | G15: =IF(D15=0,"",F15/D15*100)
A16: 3-8 | B16: 其他应收款合计 | C16: ='3-8其他应收款'!O29 -> 0 | D16: ='3-8其他应收款'!Q29 -> 0 | E16: ='3-8其他应收款'!S32 -> 0 | F16: =E16-D16 -> 0 | G16: =IF(D16=0,"",F16/D16*100)
B17: 减：坏帐准备 | C17: ='3-8其他应收款'!O30 -> 0 | D17: ='3-8其他应收款'!Q30 -> 0 | F17: =E17-D17 -> 0 | G17: =IF(D17=0,"",F17/D17*100)
B18: 其他应收款净额 | C18: =C16-C17 -> 0 | D18: =D16-D17 -> 0 | E18: =E16-E17 -> 0 | F18: =E18-D18 -> 0 | G18: =IF(D18=0,"",F18/D18*100)
A19: 3-9 | B19: 存货合计 | C19: ='3-9存货汇总'!C25 -> 0 | D19: ='3-9存货汇总'!D25 -> 0 | E19: ='3-9存货汇总'!F25 -> 0 | F19: =E19-D19 -> 0 | G19: =IF(D19=0,"",F19/D19*100)
B20: 减：存货跌价准备 | C20: ='3-9存货汇总'!C26 -> 0 | D20: ='3-9存货汇总'!D26 -> 0 | F20: =E20-D20 -> 0 | G20: =IF(D20=0,"",F20/D20*100)
B21: 存货净额 | C21: =C19-C20 -> 0 | D21: =D19-D20 -> 0 | E21: =E19-E20 -> 0 | F21: =E21-D21 -> 0 | G21: =IF(D21=0,"",F21/D21*100)
A22: 3-10 | B22: 合同资产 | C22: ='3-10合同资产'!I24 -> 0 | D22: ='3-10合同资产'!J24 -> 0 | E22: ='3-10合同资产'!L27 -> 0 | F22: =E22-D22 -> 0 | G22: =IF(D22=0,"",F22/D22*100)
B23: 减：合同资产减值准备 | C23: ='3-10合同资产'!I25 -> 0 | D23: ='3-10合同资产'!J25 -> 0 | F23: =E23-D23 -> 0 | G23: =IF(D23=0,"",F23/D23*100)
B24: 合同资产净额 | C24: =C22-C23 -> 0 | D24: =D22-D23 -> 0 | E24: =E22-E23 -> 0 | F24: =E24-D24 -> 0 | G24: =IF(D24=0,"",F24/D24*100)
A25: 3-11 | B25: 持有待售资产 | C25: ='3-11持有待售资产'!I27 -> 0 | D25: ='3-11持有待售资产'!J27 -> 0 | E25: ='3-11持有待售资产'!K27 -> 0 | F25: =E25-D25 -> 0 | G25: =IF(D25=0,"",F25/D25*100)
A26: 3-12 | B26: 一年内到期的非流动资产 | C26: ='3-12一年到期非流动资产'!E27 -> 0 | D26: ='3-12一年到期非流动资产'!F27 -> 0 | E26: ='3-12一年到期非流动资产'!G27 -> 0 | F26: =E26-D26 -> 0 | G26: =IF(D26=0,"",F26/D26*100)
A27: 3-13 | B27: 其他流动资产 | C27: ='3-13其他流动资产'!F27 -> 0 | D27: ='3-13其他流动资产'!G27 -> 0 | E27: ='3-13其他流动资产'!H27 -> 0 | F27: =E27-D27 -> 0 | G27: =IF(D27=0,"",F27/D27*100)
A31: 流动资产合计 | C31: =SUM(C7:C10,C13:C15,C18,C21,C24:C27) -> 0 | D31: =SUM(D7:D10,D13:D15,D18,D21,D24:D27) -> 0 | E31: =SUM(E7:E10,E13:E15,E18,E21,E24:E27) -> 0 | F31: =E31-D31 -> 0 | G31: =IF(D31=0,"",F31/D31*100)
F32: ="评估人员："&基本信息输入表!$Q$13 -> 评估人员：韩策

Sheet 表3-1货币汇总表
A1: 返回索引目录
A2: 货币资金评估汇总表
A3: ="评估基准日："&TEXT(基本信息输入表!M7,"yyyy年mm月dd日") -> 评估基准日：2025年11月30日
G4: 表3-1
A5: =基本信息输入表!K6&"："&基本信息输入表!M6 -> 产权持有人：湖北省徽工生物技本研究有限公司 | G5: ="金额单位："&基本信息输入表!M10&"元" -> 金额单位：人民币元
A6: 编号 | B6: 科目名称 | C6: 审定前账面价值 | D6: 账面价值 | E6: 评估价值 | F6: 增减值 | G6: 增值率% | H6: 备注
A7: 3-1-1 | B7: 现金 | C7: ='3-1-1现金'!F22 -> 0 | D7: ='3-1-1现金'!G22 -> 0 | E7: ='3-1-1现金'!H22 -> 0 | F7: =E7-D7 -> 0 | G7: =IF(D7=0,"",F7/D7*100)
A8: 3-1-2 | B8: 银行存款 | C8: ='3-1-2银行存款'!G27 -> 0 | D8: ='3-1-2银行存款'!H27 -> 0 | E8: ='3-1-2银行存款'!I27 -> 0 | F8: =E8-D8 -> 0 | G8: =IF(D8=0,"",F8/D8*100)
A9: 3-1-3 | B9: 其他货币资金 | C9: ='3-1-3其他货币资金'!G27 -> 0 | D9: ='3-1-3其他货币资金'!H27 -> 0 | E9: ='3-1-3其他货币资金'!I27 -> 0 | F9: =E9-D9 -> 0 | G9: =IF(D9=0,"",F9/D9*100)
A27: 合计 | C27: =SUM(C7:C26) -> 0 | D27: =SUM(D7:D26) -> 0 | E27: =SUM(E7:E26) -> 0 | F27: =E27-D27 -> 0 | G27: =IF(D27=0,"",F27/D27*100)
F28: ="评估人员："&基本信息输入表!$Q$14 -> 评估人员：韩策

Sheet 3-1-1现金
A1: 返回索引目录
A2: 货币资金—现金评估明细表
A3: ="评估基准日："&TEXT(基本信息输入表!M7,"yyyy年mm月dd日") -> 评估基准日：2025年11月30日
I4: 表3-1-1
A5: =基本信息输入表!K6&"："&基本信息输入表!M6 -> 产权持有人：湖北省徽工生物技本研究有限公司 | I5: ="金额单位："&基本信息输入表!M10&"元" -> 金额单位：人民币元
A6: 序号 | B6: 存放部门（单位) | C6: 币种 | D6: 外币账面金额 | E6: 评估基准日汇率 | F6: 审定前账面价值 | G6: 账面价值 | H6: 评估价值 | I6: 增值率% | J6: 备注 | K6: 唯一标识列
A7: =IF(G7="","",ROW()-6) | I7: =IF(G7=0,"",(H7-G7)/G7*100) | K7: A1
A8: =IF(G8="","",ROW()-6) | I8: =IF(G8=0,"",(H8-G8)/G8*100) | K8: A2
A9: =IF(G9="","",ROW()-6) | I9: =IF(G9=0,"",(H9-G9)/G9*100) | K9: A3
A10: =IF(G10="","",ROW()-6) | I10: =IF(G10=0,"",(H10-G10)/G10*100) | K10: A4
A11: =IF(G11="","",ROW()-6) | I11: =IF(G11=0,"",(H11-G11)/G11*100) | K11: A5
A12: =IF(G12="","",ROW()-6) | I12: =IF(G12=0,"",(H12-G12)/G12*100) | K12: A6
A13: =IF(G13="","",ROW()-6) | I13: =IF(G13=0,"",(H13-G13)/G13*100) | K13: A7
A14: =IF(G14="","",ROW()-6) | I14: =IF(G14=0,"",(H14-G14)/G14*100) | K14: A8
A15: =IF(G15="","",ROW()-6) | I15: =IF(G15=0,"",(H15-G15)/G15*100) | K15: A9
A16: =IF(G16="","",ROW()-6) | I16: =IF(G16=0,"",(H16-G16)/G16*100) | K16: A10
A17: =IF(G17="","",ROW()-6) | I17: =IF(G17=0,"",(H17-G17)/G17*100) | K17: A11
A18: =IF(G18="","",ROW()-6) | I18: =IF(G18=0,"",(H18-G18)/G18*100) | K18: A12
... A21: =IF(G21="","",ROW()-6) | I21: =IF(G21=0,"",(H21-G21)/G21*100) | K21: A15
A22: 合计 | F22: =SUM(F7:F21) -> 0 | G22: =SUM(G7:G21) -> 0 | H22: =SUM(H7:H21) -> 0 | I22: =IF(G22=0,"",(H22-G22)/G22*100)
A23: =基本信息输入表!$K$6&"填表人："&基本信息输入表!$M$15 -> 产权持有人填表人：袁佳 | H23: ="评估人员："&基本信息输入表!$Q$15 -> 评估人员：韩策
A24: ="填表日期："&YEAR(基本信息输入表!$O$15)&"年"&MONTH(基本信息输入表!$O$15)&"月"&DAY(基本信息输入表!$O$15)&"日" -> 填表日期：2025年12月15日

Sheet 3-1-2银行存款
A1: 返回索引目录
A2: 货币资金—银行存款评估明细表
A3: ="评估基准日："&TEXT(基本信息输入表!M7,"yyyy年mm月dd日") -> 评估基准日：2025年11月30日
J4: 表3-1-2
A5: =基本信息输入表!K6&"："&基本信息输入表!M6 -> 产权持有人：湖北省徽工生物技本研究有限公司 | J5: ="金额单位："&基本信息输入表!M10&"元" -> 金额单位：人民币元
A6: 序号 | B6: 开户银行 | C6: 账号 | D6: 币种 | E6: 外币账面金额 | F6: 评估基准日汇率 | G6: 审定前账面价值 | H6: 账面价值 | I6: 评估价值 | J6: 增值率% | K6: 备注 | L6: 唯一标识列
A7: =IF(H7="","",ROW()-6) | J7: =IF(H7=0,"",(I7-H7)/H7*100) | L7: A1
A8: =IF(H8="","",ROW()-6) | J8: =IF(H8=0,"",(I8-H8)/H8*100) | L8: A2
A9: =IF(H9="","",ROW()-6) | J9: =IF(H9=0,"",(I9-H9)/H9*100) | L9: A3
A10: =IF(H10="","",ROW()-6) | J10: =IF(H10=0,"",(I10-H10)/H10*100) | L10: A4
A11: =IF(H11="","",ROW()-6) | J11: =IF(H11=0,"",(I11-H11)/H11*100) | L11: A5
A12: =IF(H12="","",ROW()-6) | J12: =IF(H12=0,"",(I12-H12)/H12*100) | L12: A6
A13: =IF(H13="","",ROW()-6) | J13: =IF(H13=0,"",(I13-H13)/H13*100) | L13: A7
A14: =IF(H14="","",ROW()-6) | J14: =IF(H14=0,"",(I14-H14)/H14*100) | L14: A8
A15: =IF(H15="","",ROW()-6) | J15: =IF(H15=0,"",(I15-H15)/H15*100) | L15: A9
A16: =IF(H16="","",ROW()-6) | J16: =IF(H16=0,"",(I16-H16)/H16*100) | L16: A10
A17: =IF(H17="","",ROW()-6) | J17: =IF(H17=0,"",(I17-H17)/H17*100) | L17: A11
A18: =IF(H18="","",ROW()-6) | J18: =IF(H18=0,"",(I18-H18)/H18*100) | L18: A12
... A26: =IF(H26="","",ROW()-6) | J26: =IF(H26=0,"",(I26-H26)/H26*100) | L26: A20
A27: 合计 | G27: =SUM(G7:G26) -> 0 | H27: =SUM(H7:H26) -> 0 | I27: =SUM(I7:I26) -> 0 | J27: =IF(H27=0,"",(I27-H27)/H27*100)
A28: =基本信息输入表!$K$6&"填表人："&基本信息输入表!$M$16 -> 产权持有人填表人：袁佳 | I28: ="评估人员："&基本信息输入表!$Q$16 -> 评估人员：韩策
A29: ="填表日期："&YEAR(基本信息输入表!$O$16)&"年"&MONTH(基本信息输入表!$O$16)&"月"&DAY(基本信息输入表!$O$16)&"日" -> 填表日期：2025年12月15日

Sheet 3-1-3其他货币资金
A1: 返回索引目录
A2: 货币资金—其他货币资金评估明细表
A3: ="评估基准日："&TEXT(基本信息输入表!M7,"yyyy年mm月dd日") -> 评估基准日：2025年11月30日
K4: 表3-1-3
A5: =基本信息输入表!K6&"："&基本信息输入表!M6 -> 产权持有人：湖北省徽工生物技本研究有限公司 | K5: ="金额单位："&基本信息输入表!M10&"元" -> 金额单位：人民币元
A6: 序号 | B6: 名称及内容 | C6: 用途 | D6: 币种 | E6: 外币账面金额 | F6: 评估基准日汇率 | G6: 审定前账面价值 | H6: 账面价值 | I6: 评估价值 | J6: 增值率% | K6: 备注 | L6: 唯一标识列
A7: =IF(H7="","",ROW()-6) | J7: =IF(H7=0,"",(I7-H7)/H7*100) | L7: A1
A8: =IF(H8="","",ROW()-6) | J8: =IF(H8=0,"",(I8-H8)/H8*100) | L8: A2
A9: =IF(H9="","",ROW()-6) | J9: =IF(H9=0,"",(I9-H9)/H9*100) | L9: A3
A10: =IF(H10="","",ROW()-6) | J10: =IF(H10=0,"",(I10-H10)/H10*100) | L10: A4
A11: =IF(H11="","",ROW()-6) | J11: =IF(H11=0,"",(I11-H11)/H11*100) | L11: A5
A12: =IF(H12="","",ROW()-6) | J12: =IF(H12=0,"",(I12-H12)/H12*100) | L12: A6
A13: =IF(H13="","",ROW()-6) | J13: =IF(H13=0,"",(I13-H13)/H13*100) | L13: A7
A14: =IF(H14="","",ROW()-6) | J14: =IF(H14=0,"",(I14-H14)/H14*100) | L14: A8
A15: =IF(H15="","",ROW()-6) | J15: =IF(H15=0,"",(I15-H15)/H15*100) | L15: A9
A16: =IF(H16="","",ROW()-6) | J16: =IF(H16=0,"",(I16-H16)/H16*100) | L16: A10
A17: =IF(H17="","",ROW()-6) | J17: =IF(H17=0,"",(I17-H17)/H17*100) | L17: A11
A18: =IF(H18="","",ROW()-6) | J18: =IF(H18=0,"",(I18-H18)/H18*100) | L18: A12
... A26: =IF(H26="","",ROW()-6) | J26: =IF(H26=0,"",(I26-H26)/H26*100) | L26: A20
A27: 合计 | G27: =SUM(G7:G26) -> 0 | H27: =SUM(H7:H26) -> 0 | I27: =SUM(I7:I26) -> 0 | J27: =IF(H27=0,"",(I27-H27)/H27*100)
A28: =基本信息输入表!$K$6&"填表人："&基本信息输入表!$M$17 -> 产权持有人填表人：袁佳 | I28: ="评估人员："&基本信息输入表!$Q$17 -> 评估人员：韩策
A29: ="填表日期："&YEAR(基本信息输入表!$O$17)&"年"&MONTH(基本信息输入表!$O$17)&"月"&DAY(基本信息输入表!$O$17)&"日" -> 填表日期：2025年12月15日

Sheet 3-2交易性金融资产汇总
A1: 返回索引目录
A2: 交易性金融资产评估汇总表
A3: ="评估基准日："&TEXT(基本信息输入表!M7,"yyyy年mm月dd日") -> 评估基准日：2025年11月30日
G4: 表3-2
A5: =基本信息输入表!K6&"："&基本信息输入表!M6 -> 产权持有人：湖北省徽工生物技本研究有限公司 | G5: ="金额单位："&基本信息输入表!M10&"元" -> 金额单位：人民币元
A6: 编号 | B6: 科目名称 | C6: 审定前账面价值 | D6: 账面价值 | E6: 评估价值 | F6: 增减值 | G6: 增值率%
A7: 3-2-1 | B7: 交易性金融资产-股票投资 | C7: ='3-2-1交易性-股票'!I27 -> 0 | D7: ='3-2-1交易性-股票'!J27 -> 0 | E7: ='3-2-1交易性-股票'!K27 -> 0 | F7: =E7-D7 -> 0 | G7: =IF(D7=0,"",F7/D7*100)
A8: 3-2-2 | B8: 交易性金融资产-债券投资 | C8: ='3-2-2交易性-债券'!I27 -> 0 | D8: ='3-2-2交易性-债券'!J27 -> 0 | E8: ='3-2-2交易性-债券'!K27 -> 0 | F8: =E8-D8 -> 0 | G8: =IF(D8=0,"",F8/D8*100)
A9: 3-2-3 | B9: 交易性金融资产-基金投资 | C9: ='3-2-3交易性-基金'!I27 -> 0 | D9: ='3-2-3交易性-基金'!J27 -> 0 | E9: ='3-2-3交易性-基金'!K27 -> 0 | F9: =E9-D9 -> 0 | G9: =IF(D9=0,"",F9/D9*100)
G10: =IF(D10=0,"",F10/D10*100)
G11: =IF(D11=0,"",F11/D11*100)
A27: 合计 | C27: =SUM(C7:C26) -> 0 | D27: =SUM(D7:D26) -> 0 | E27: =SUM(E7:E26) -> 0 | F27: =E27-D27 -> 0 | G27: =IF(D27=0,"",F27/D27*100)
E28: ="评估人员："&基本信息输入表!$Q$18 -> 评估人员：韩策

Sheet 3-2-1交易性-股票
A1: 返回索引目录
A2: 交易性金融资产—股票投资评估明细表
A3: ="评估基准日："&TEXT(基本信息输入表!M7,"yyyy年mm月dd日") -> 评估基准日：2025年11月30日
L4: 表3-2-1
A5: =基本信息输入表!K6&"："&基本信息输入表!M6 -> 产权持有人：湖北省徽工生物技本研究有限公司 | L5: ="金额单位："&基本信息输入表!M10&"元" -> 金额单位：人民币元
A6: 序号 | B6: 被投资单位名称 | C6: 股票名称 | D6: 股票代码 | E6: 投资日期 | F6: 持股数量 | G6: 成 本 | H6: 基准日收盘价元/股 | I6: 审定前账面价值 | J6: 账面价值 | K6: 评估价值 | L6: 增值率% | M6: 备注 | N6: 唯一标识列
A7: =IF(C7="","",ROW()-6) | L7: =IF(J7=0,"",(K7-J7)/J7*100) | N7: A1
A8: =IF(C8="","",ROW()-6) | L8: =IF(J8=0,"",(K8-J8)/J8*100) | N8: A2
A9: =IF(C9="","",ROW()-6) | L9: =IF(J9=0,"",(K9-J9)/J9*100) | N9: A3
A10: =IF(C10="","",ROW()-6) | L10: =IF(J10=0,"",(K10-J10)/J10*100) | N10: A4
A11: =IF(C11="","",ROW()-6) | L11: =IF(J11=0,"",(K11-J11)/J11*100) | N11: A5
A12: =IF(C12="","",ROW()-6) | L12: =IF(J12=0,"",(K12-J12)/J12*100) | N12: A6
A13: =IF(C13="","",ROW()-6) | L13: =IF(J13=0,"",(K13-J13)/J13*100) | N13: A7
A14: =IF(C14="","",ROW()-6) | L14: =IF(J14=0,"",(K14-J14)/J14*100) | N14: A8
A15: =IF(C15="","",ROW()-6) | L15: =IF(J15=0,"",(K15-J15)/J15*100) | N15: A9
A16: =IF(C16="","",ROW()-6) | L16: =IF(J16=0,"",(K16-J16)/J16*100) | N16: A10
A17: =IF(C17="","",ROW()-6) | L17: =IF(J17=0,"",(K17-J17)/J17*100) | N17: A11
A18: =IF(C18="","",ROW()-6) | L18: =IF(J18=0,"",(K18-J18)/J18*100) | N18: A12
... A26: =IF(C26="","",ROW()-6) | L26: =IF(J26=0,"",(K26-J26)/J26*100) | N26: A20
A27: 合计 | I27: =SUM(I7:I26) -> 0 | J27: =SUM(J7:J26) -> 0 | K27: =SUM(K7:K26) -> 0 | L27: =IF(J27=0,"",(K27-J27)/J27*100)
A28: =基本信息输入表!$K$6&"填表人："&基本信息输入表!$M$19 -> 产权持有人填表人：袁佳 | K28: ="评估人员："&基本信息输入表!$Q$19 -> 评估人员：韩策
A29: ="填表日期："&YEAR(基本信息输入表!$O$19)&"年"&MONTH(基本信息输入表!$O$19)&"月"&DAY(基本信息输入表!$O$19)&"日" -> 填表日期：2025年12月15日

Sheet 3-2-2交易性-债券
A1: 返回索引目录
A2: 交易性金融资产—债券投资评估明细表
A3: ="评估基准日："&TEXT(基本信息输入表!M7,"yyyy年mm月dd日") -> 评估基准日：2025年11月30日
L4: 表3-2-2
A5: =基本信息输入表!K6&"："&基本信息输入表!M6 -> 产权持有人：湖北省徽工生物技本研究有限公司 | L5: ="金额单位："&基本信息输入表!M10&"元" -> 金额单位：人民币元
A6: 序号 | B6: 被投资单位名称 | C6: 债券名称 | D6: 债券代码 | E6: 发行日期 | F6: 投资日期 | G6: 票面利率% | H6: 成本 | I6: 审定前账面价值 | J6: 账面价值 | K6: 评估价值 | L6: 增值率% | M6: 备注 | N6: 唯一标识列
A7: =IF(C7="","",ROW()-6) | L7: =IF(J7=0,"",(K7-J7)/J7*100) | N7: A1
A8: =IF(C8="","",ROW()-6) | L8: =IF(J8=0,"",(K8-J8)/J8*100) | N8: A2
A9: =IF(C9="","",ROW()-6) | L9: =IF(J9=0,"",(K9-J9)/J9*100) | N9: A3
A10: =IF(C10="","",ROW()-6) | L10: =IF(J10=0,"",(K10-J10)/J10*100) | N10: A4
A11: =IF(C11="","",ROW()-6) | L11: =IF(J11=0,"",(K11-J11)/J11*100) | N11: A5
A12: =IF(C12="","",ROW()-6) | L12: =IF(J12=0,"",(K12-J12)/J12*100) | N12: A6
A13: =IF(C13="","",ROW()-6) | L13: =IF(J13=0,"",(K13-J13)/J13*100) | N13: A7
A14: =IF(C14="","",ROW()-6) | L14: =IF(J14=0,"",(K14-J14)/J14*100) | N14: A8
A15: =IF(C15="","",ROW()-6) | L15: =IF(J15=0,"",(K15-J15)/J15*100) | N15: A9
A16: =IF(C16="","",ROW()-6) | L16: =IF(J16=0,"",(K16-J16)/J16*100) | N16: A10
A17: =IF(C17="","",ROW()-6) | L17: =IF(J17=0,"",(K17-J17)/J17*100) | N17: A11
A18: =IF(C18="","",ROW()-6) | L18: =IF(J18=0,"",(K18-J18)/J18*100) | N18: A12
... A26: =IF(C26="","",ROW()-6) | L26: =IF(J26=0,"",(K26-J26)/J26*100) | N26: A20
A27: 合计 | I27: =SUM(I7:I26) -> 0 | J27: =SUM(J7:J26) -> 0 | K27: =SUM(K7:K26) -> 0 | L27: =IF(J27=0,"",(K27-J27)/J27*100)
A28: =基本信息输入表!$K$6&"填表人："&基本信息输入表!$M$20 -> 产权持有人填表人：袁佳 | K28: ="评估人员："&基本信息输入表!$Q$20 -> 评估人员：韩策
A29: ="填表日期："&YEAR(基本信息输入表!$O$20)&"年"&MONTH(基本信息输入表!$O$20)&"月"&DAY(基本信息输入表!$O$20)&"日" -> 填表日期：2025年12月15日

Sheet 3-2-3交易性-基金
A1: 返回索引目录
A2: 交易性金融资产—基金投资评估明细表
A3: ="评估基准日："&TEXT(基本信息输入表!M7,"yyyy年mm月dd日") -> 评估基准日：2025年11月30日
L4: 表3-2-3
A5: =基本信息输入表!K6&"："&基本信息输入表!M6 -> 产权持有人：湖北省徽工生物技本研究有限公司 | L5: ="金额单位："&基本信息输入表!M10&"元" -> 金额单位：人民币元
A6: 序号 | B6: 基金发行单位 | C6: 基金名称 | D6: 基金类型 | E6: 基金代码 | F6: 投资日期 | G6: 成本 | H6: 基准日净值/份 | I6: 审定前账面价值 | J6: 账面价值 | K6: 评估价值 | L6: 增值率% | M6: 备注 | N6: 唯一标识列
A7: =IF(C7="","",ROW()-6) | L7: =IF(J7=0,"",(K7-J7)/J7*100) | N7: A1
A8: =IF(C8="","",ROW()-6) | L8: =IF(J8=0,"",(K8-J8)/J8*100) | N8: A2
A9: =IF(C9="","",ROW()-6) | L9: =IF(J9=0,"",(K9-J9)/J9*100) | N9: A3
A10: =IF(C10="","",ROW()-6) | L10: =IF(J10=0,"",(K10-J10)/J10*100) | N10: A4
A11: =IF(C11="","",ROW()-6) | L11: =IF(J11=0,"",(K11-J11)/J11*100) | N11: A5
A12: =IF(C12="","",ROW()-6) | L12: =IF(J12=0,"",(K12-J12)/J12*100) | N12: A6
A13: =IF(C13="","",ROW()-6) | L13: =IF(J13=0,"",(K13-J13)/J13*100) | N13: A7
A14: =IF(C14="","",ROW()-6) | L14: =IF(J14=0,"",(K14-J14)/J14*100) | N14: A8
A15: =IF(C15="","",ROW()-6) | L15: =IF(J15=0,"",(K15-J15)/J15*100) | N15: A9
A16: =IF(C16="","",ROW()-6) | L16: =IF(J16=0,"",(K16-J16)/J16*100) | N16: A10
A17: =IF(C17="","",ROW()-6) | L17: =IF(J17=0,"",(K17-J17)/J17*100) | N17: A11
A18: =IF(C18="","",ROW()-6) | L18: =IF(J18=0,"",(K18-J18)/J18*100) | N18: A12
... A26: =IF(C26="","",ROW()-6) | L26: =IF(J26=0,"",(K26-J26)/J26*100) | N26: A20
A27: 合计 | I27: =SUM(I7:I26) -> 0 | J27: =SUM(J7:J26) -> 0 | K27: =SUM(K7:K26) -> 0 | L27: =IF(J27=0,"",(K27-J27)/J27*100)
A28: =基本信息输入表!$K$6&"填表人："&基本信息输入表!$M$21 -> 产权持有人填表人：袁佳 | K28: ="评估人员："&基本信息输入表!$Q$21 -> 评估人员：韩策
A29: ="填表日期："&YEAR(基本信息输入表!$O$21)&"年"&MONTH(基本信息输入表!$O$21)&"月"&DAY(基本信息输入表!$O$21)&"日" -> 填表日期：2025年12月15日

Sheet 3-3衍生金融资产
A1: 返回索引目录
A2: 衍生金融资产评估明细表
A3: ="评估基准日："&TEXT(基本信息输入表!M7,"yyyy年mm月dd日") -> 评估基准日：2025年11月30日
I4: 表3-3
A5: =基本信息输入表!K6&"："&基本信息输入表!M6 -> 产权持有人：湖北省徽工生物技本研究有限公司 | I5: ="金额单位："&基本信息输入表!M10&"元" -> 金额单位：人民币元
A6: 序号 | B6: 被投资单位名称 | C6: 衍生金融资产名称 | D6: 投资日期 | E6: 成本 | F6: 审定前账面价值 | G6: 账面价值 | H6: 评估价值 | I6: 增值率% | J6: 备注 | K6: 唯一标识列
A7: =IF(C7="","",ROW()-6) | I7: =IF(G7=0,"",(H7-G7)/G7*100) | K7: A1
A8: =IF(C8="","",ROW()-6) | I8: =IF(G8=0,"",(H8-G8)/G8*100) | K8: A2
A9: =IF(C9="","",ROW()-6) | I9: =IF(G9=0,"",(H9-G9)/G9*100) | K9: A3
A10: =IF(C10="","",ROW()-6) | I10: =IF(G10=0,"",(H10-G10)/G10*100) | K10: A4
A11: =IF(C11="","",ROW()-6) | I11: =IF(G11=0,"",(H11-G11)/G11*100) | K11: A5
A12: =IF(C12="","",ROW()-6) | I12: =IF(G12=0,"",(H12-G12)/G12*100) | K12: A6
A13: =IF(C13="","",ROW()-6) | I13: =IF(G13=0,"",(H13-G13)/G13*100) | K13: A7
A14: =IF(C14="","",ROW()-6) | I14: =IF(G14=0,"",(H14-G14)/G14*100) | K14: A8
A15: =IF(C15="","",ROW()-6) | I15: =IF(G15=0,"",(H15-G15)/G15*100) | K15: A9
A16: =IF(C16="","",ROW()-6) | I16: =IF(G16=0,"",(H16-G16)/G16*100) | K16: A10
A17: =IF(C17="","",ROW()-6) | I17: =IF(G17=0,"",(H17-G17)/G17*100) | K17: A11
A18: =IF(C18="","",ROW()-6) | I18: =IF(G18=0,"",(H18-G18)/G18*100) | K18: A12
... A26: =IF(C26="","",ROW()-6) | I26: =IF(G26=0,"",(H26-G26)/G26*100) | K26: A20
A27: 合计 | F27: =SUM(F7:F26) -> 0 | G27: =SUM(G7:G26) -> 0 | H27: =SUM(H7:H26) -> 0 | I27: =IF(G27=0,"",(H27-G27)/G27*100)
A28: =基本信息输入表!$K$6&"填表人："&基本信息输入表!$M$22 -> 产权持有人填表人：袁佳 | H28: ="评估人员："&基本信息输入表!$Q$22 -> 评估人员：韩策
A29: ="填表日期："&YEAR(基本信息输入表!$O$22)&"年"&MONTH(基本信息输入表!$O$22)&"月"&DAY(基本信息输入表!$O$22)&"日" -> 填表日期：2025年12月15日

Sheet 3-4应收票据
A1: 返回索引目录
A2: 应收票据评估明细表
A3: ="评估基准日："&TEXT(基本信息输入表!M7,"yyyy年mm月dd日") -> 评估基准日：2025年11月30日
J4: 表3-4
A5: =基本信息输入表!K6&"："&基本信息输入表!M6 -> 产权持有人：湖北省徽工生物技本研究有限公司 | J5: ="金额单位："&基本信息输入表!M10&"元" -> 金额单位：人民币元
A6: 序号 | B6: 户名（结算对象) | C6: 出票日期 | D6: 到期日期 | E6: 票面利率% | F6: 审定前账面价值 | G6: 账面价值 | H6: 评估价值 | I6: 增值率% | J6: 备注
K7: 唯一标识列
A8: =IF(B8="","",ROW()-7) | I8: =IF(G8=0,"",(H8-G8)/G8*100) | K8: A1
A9: =IF(B9="","",ROW()-7) | I9: =IF(G9=0,"",(H9-G9)/G9*100) | K9: A2
A10: =IF(B10="","",ROW()-7) | I10: =IF(G10=0,"",(H10-G10)/G10*100) | K10: A3
A11: =IF(B11="","",ROW()-7) | I11: =IF(G11=0,"",(H11-G11)/G11*100) | K11: A4
A12: =IF(B12="","",ROW()-7) | I12: =IF(G12=0,"",(H12-G12)/G12*100) | K12: A5
A13: =IF(B13="","",ROW()-7) | I13: =IF(G13=0,"",(H13-G13)/G13*100) | K13: A6
A14: =IF(B14="","",ROW()-7) | I14: =IF(G14=0,"",(H14-G14)/G14*100) | K14: A7
A15: =IF(B15="","",ROW()-7) | I15: =IF(G15=0,"",(H15-G15)/G15*100) | K15: A8
A16: =IF(B16="","",ROW()-7) | I16: =IF(G16=0,"",(H16-G16)/G16*100) | K16: A9
A17: =IF(B17="","",ROW()-7) | I17: =IF(G17=0,"",(H17-G17)/G17*100) | K17: A10
A18: =IF(B18="","",ROW()-7) | I18: =IF(G18=0,"",(H18-G18)/G18*100) | K18: A11
A19: =IF(B19="","",ROW()-7) | I19: =IF(G19=0,"",(H19-G19)/G19*100) | K19: A12
... A24: =IF(B24="","",ROW()-7) | I24: =IF(G24=0,"",(H24-G24)/G24*100) | K24: A17
A25: 应收票据合计 | F25: =SUM(F8:F24) -> 0 | G25: =SUM(G8:G24) -> 0 | H25: =SUM(H8:H24) -> 0 | I25: =IF(G25=0,"",(H25-G25)/G25*100)
A26: =基本信息输入表!$K$6&"填表人："&基本信息输入表!$M$23 -> 产权持有人填表人：袁佳 | H26: ="评估人员："&基本信息输入表!$Q$23 -> 评估人员：韩策
A27: ="填表日期："&YEAR(基本信息输入表!$O$23)&"年"&MONTH(基本信息输入表!$O$23)&"月"&DAY(基本信息输入表!$O$23)&"日" -> 填表日期：2025年12月15日

Sheet 3-5应收账款
A1: 返回索引目录
A2: 应收账款评估明细表
A3: ="评估基准日："&TEXT(基本信息输入表!M7,"yyyy年mm月dd日") -> 评估基准日：2025年11月30日
U4: 表3-5
A5: =基本信息输入表!K6&"："&基本信息输入表!M6 -> 产权持有人：湖北省徽工生物技本研究有限公司 | U5: ="金额单位："&基本信息输入表!M10&"元" -> 金额单位：人民币元
A6: 序号 | B6: 欠款单位名称（结算对象) | C6: 业务内容 | D6: 最后一次 变动日期 | E6: 账龄（年） | F6: 账龄 | M6: 币种 | N6: 外币账面金额 | O6: 审定前账面价值 | P6: 审计前坏账准备 | Q6: 账面余额 | R6: 坏账准备 | S6: 评估价值 | T6: 增值率% | U6: 备注
F7: 1年以内 | G7: 1-2年 | H7: 2-3年 | I7: 3-4年 | J7: 4-5年 | K7: 5年以上 | L7: 合计 | V7: 唯一标识列
A8: =IF(B8="","",ROW()-7) | L8: =SUM(F8:K8) -> 0 | T8: =IF(Q8=0,"",(S8-Q8)/(Q8)*100) | V8: A1
A9: =IF(B9="","",ROW()-7) | L9: =SUM(F9:K9) -> 0 | T9: =IF(Q9=0,"",(S9-Q9)/(Q9)*100) | V9: A2
A10: =IF(B10="","",ROW()-7) | L10: =SUM(F10:K10) -> 0 | T10: =IF(Q10=0,"",(S10-Q10)/(Q10)*100) | V10: A3
A11: =IF(B11="","",ROW()-7) | L11: =SUM(F11:K11) -> 0 | T11: =IF(Q11=0,"",(S11-Q11)/(Q11)*100) | V11: A4
A12: =IF(B12="","",ROW()-7) | L12: =SUM(F12:K12) -> 0 | T12: =IF(Q12=0,"",(S12-Q12)/(Q12)*100) | V12: A5
A13: =IF(B13="","",ROW()-7) | L13: =SUM(F13:K13) -> 0 | T13: =IF(Q13=0,"",(S13-Q13)/(Q13)*100) | V13: A6
A14: =IF(B14="","",ROW()-7) | L14: =SUM(F14:K14) -> 0 | T14: =IF(Q14=0,"",(S14-Q14)/(Q14)*100) | V14: A7
A15: =IF(B15="","",ROW()-7) | L15: =SUM(F15:K15) -> 0 | T15: =IF(Q15=0,"",(S15-Q15)/(Q15)*100) | V15: A8
A16: =IF(B16="","",ROW()-7) | L16: =SUM(F16:K16) -> 0 | T16: =IF(Q16=0,"",(S16-Q16)/(Q16)*100) | V16: A9
A17: =IF(B17="","",ROW()-7) | L17: =SUM(F17:K17) -> 0 | T17: =IF(Q17=0,"",(S17-Q17)/(Q17)*100) | V17: A10
A18: =IF(B18="","",ROW()-7) | L18: =SUM(F18:K18) -> 0 | T18: =IF(Q18=0,"",(S18-Q18)/(Q18)*100) | V18: A11
A19: =IF(B19="","",ROW()-7) | L19: =SUM(F19:K19) -> 0 | T19: =IF(Q19=0,"",(S19-Q19)/(Q19)*100) | V19: A12
A20: 应收账款合计 | F20: =SUM(F8:F19) -> 0 | G20: =SUM(G8:G19) -> 0 | H20: =SUM(H8:H19) -> 0 | I20: =SUM(I8:I19) -> 0 | J20: =SUM(J8:J19) -> 0 | K20: =SUM(K8:K19) -> 0 | L20: =SUM(L8:L19) -> 0 | O20: =SUM(O8:O19) -> 0 | P20: =SUM(P8:P19) -> 0 | Q20: =SUM(Q8:Q19) -> 0 | R20: =SUM(R8:R19) -> 0 | S20: =SUM(S8:S19) -> 0 | T20: =IF(Q20=0,"",(S20-Q20)/(Q20)*100)
A21: 减：坏账准备 | L21: =SUM(L9:L20) -> 0 | O21: =P20 -> 0 | Q21: =R20 -> 0 | T21: =IF(Q21=0,"",(S21-Q21)/(Q21)*100)
A22: 减：评估风险损失 | S22: =Q21 -> 0 | T22: =IF(Q22=0,"",(S22-Q22)/(Q22)*100)
A23: 应收账款净额 | F23: =F20-F21 -> 0 | G23: =G20-G21 -> 0 | H23: =H20-H21 -> 0 | I23: =I20-I21 -> 0 | J23: =J20-J21 -> 0 | K23: =K20-K21 -> 0 | L23: =L20-L21 -> 0 | O23: =O20-O21 -> 0 | Q23: =Q20-Q21 -> 0 | S23: =S20-S22 -> 0 | T23: =IF(Q23=0,"",(S23-Q23)/(Q23)*100)
A24: =基本信息输入表!$K$6&"填表人："&基本信息输入表!$M$24 -> 产权持有人填表人：袁佳 | S24: ="评估人员："&基本信息输入表!$Q$24 -> 评估人员：韩策
A25: ="填表日期："&YEAR(基本信息输入表!$O$24)&"年"&MONTH(基本信息输入表!$O$24)&"月"&DAY(基本信息输入表!$O$24)&"日" -> 填表日期：2025年12月15日

Sheet 3-6应收款项融资
A1: 返回索引目录
A2: 应收款项融资评估明细表
A3: ="评估基准日："&TEXT(基本信息输入表!M7,"yyyy年mm月dd日") -> 评估基准日：2025年11月30日
J4: 表3-6
A5: =基本信息输入表!K6&"："&基本信息输入表!M6 -> 产权持有人：湖北省徽工生物技本研究有限公司 | J5: ="金额单位："&基本信息输入表!M10&"元" -> 金额单位：人民币元
A6: 序号 | B6: 户名（结算对象) | C6: 出票日期 | D6: 到期日期 | E6: 票面利率% | F6: 审定前账面价值 | G6: 账面价值 | H6: 评估价值 | I6: 增值率% | J6: 备注
K7: 唯一标识列
A8: =IF(B8="","",ROW()-7) | I8: =IF(G8=0,"",(H8-G8)/G8*100) | K8: A1
A9: =IF(B9="","",ROW()-7) | I9: =IF(G9=0,"",(H9-G9)/G9*100) | K9: A2
A10: =IF(B10="","",ROW()-7) | I10: =IF(G10=0,"",(H10-G10)/G10*100) | K10: A3
A11: =IF(B11="","",ROW()-7) | I11: =IF(G11=0,"",(H11-G11)/G11*100) | K11: A4
A12: =IF(B12="","",ROW()-7) | I12: =IF(G12=0,"",(H12-G12)/G12*100) | K12: A5
A13: =IF(B13="","",ROW()-7) | I13: =IF(G13=0,"",(H13-G13)/G13*100) | K13: A6
A14: =IF(B14="","",ROW()-7) | I14: =IF(G14=0,"",(H14-G14)/G14*100) | K14: A7
A15: =IF(B15="","",ROW()-7) | I15: =IF(G15=0,"",(H15-G15)/G15*100) | K15: A8
A16: =IF(B16="","",ROW()-7) | I16: =IF(G16=0,"",(H16-G16)/G16*100) | K16: A9
A17: =IF(B17="","",ROW()-7) | I17: =IF(G17=0,"",(H17-G17)/G17*100) | K17: A10
A18: =IF(B18="","",ROW()-7) | I18: =IF(G18=0,"",(H18-G18)/G18*100) | K18: A11
A19: =IF(B19="","",ROW()-7) | I19: =IF(G19=0,"",(H19-G19)/G19*100) | K19: A12
... A24: =IF(B24="","",ROW()-7) | I24: =IF(G24=0,"",(H24-G24)/G24*100) | K24: A17
A25: 应收款项融资合计 | F25: =SUM(F8:F24) -> 0 | G25: =SUM(G8:G24) -> 0 | H25: =SUM(H8:H24) -> 0 | I25: =IF(G25=0,"",(H25-G25)/G25*100)
A26: =基本信息输入表!$K$6&"填表人："&基本信息输入表!$M$25 -> 产权持有人填表人：袁佳 | H26: ="评估人员："&基本信息输入表!$Q$25 -> 评估人员：韩策
A27: ="填表日期："&YEAR(基本信息输入表!$O$25)&"年"&MONTH(基本信息输入表!$O$25)&"月"&DAY(基本信息输入表!$O$25)&"日" -> 填表日期：2025年12月15日

Sheet 3-7预付款项
A1: 返回索引目录
A2: 预付款项评估明细表
A3: ="评估基准日："&TEXT(基本信息输入表!M7,"yyyy年mm月dd日") -> 评估基准日：2025年11月30日
U4: 表3-7
A5: =基本信息输入表!K6&"："&基本信息输入表!M6 -> 产权持有人：湖北省徽工生物技本研究有限公司 | U5: ="金额单位："&基本信息输入表!M10&"元" -> 金额单位：人民币元
A6: 序号 | B6: 收款单位名称（结算对象) | C6: 业务内容 | D6: 发生日期 | E6: 账龄（年） | F6: 账龄 | M6: 币种 | N6: 外币账面金额 | O6: 基准日汇率 | P6: 审定前账面价值 | Q6: 账面余额 | R6: 计提减值准备 | S6: 评估价值 | T6: 增值率% | U6: 备注
F7: 1年以内 | G7: 1-2年 | H7: 2-3年 | I7: 3-4年 | J7: 4-5年 | K7: 5年以上 | L7: 合计 | V7: 唯一标识列
A8: =IF(B8="","",ROW()-7) | L8: =SUM(F8:K8) -> 0 | T8: =IF(Q8=0,"",(S8-Q8)/Q8*100) | V8: A1
A9: =IF(B9="","",ROW()-7) | L9: =SUM(F9:K9) -> 0 | T9: =IF(Q9=0,"",(S9-Q9)/Q9*100) | V9: A2
A10: =IF(B10="","",ROW()-7) | L10: =SUM(F10:K10) -> 0 | T10: =IF(Q10=0,"",(S10-Q10)/Q10*100) | V10: A3
A11: =IF(B11="","",ROW()-7) | L11: =SUM(F11:K11) -> 0 | T11: =IF(Q11=0,"",(S11-Q11)/Q11*100) | V11: A4
A12: =IF(B12="","",ROW()-7) | L12: =SUM(F12:K12) -> 0 | T12: =IF(Q12=0,"",(S12-Q12)/Q12*100) | V12: A5
A13: =IF(B13="","",ROW()-7) | L13: =SUM(F13:K13) -> 0 | T13: =IF(Q13=0,"",(S13-Q13)/Q13*100) | V13: A6
A14: =IF(B14="","",ROW()-7) | L14: =SUM(F14:K14) -> 0 | T14: =IF(Q14=0,"",(S14-Q14)/Q14*100) | V14: A7
A15: =IF(B15="","",ROW()-7) | L15: =SUM(F15:K15) -> 0 | T15: =IF(Q15=0,"",(S15-Q15)/Q15*100) | V15: A8
A16: =IF(B16="","",ROW()-7) | L16: =SUM(F16:K16) -> 0 | T16: =IF(Q16=0,"",(S16-Q16)/Q16*100) | V16: A9
A17: =IF(B17="","",ROW()-7) | L17: =SUM(F17:K17) -> 0 | T17: =IF(Q17=0,"",(S17-Q17)/Q17*100) | V17: A10
A18: =IF(B18="","",ROW()-7) | L18: =SUM(F18:K18) -> 0 | T18: =IF(Q18=0,"",(S18-Q18)/Q18*100) | V18: A11
A19: =IF(B19="","",ROW()-7) | L19: =SUM(F19:K19) -> 0 | T19: =IF(Q19=0,"",(S19-Q19)/Q19*100) | V19: A12
... A23: =IF(B23="","",ROW()-7) | L23: =SUM(F23:K23) -> 0 | T23: =IF(Q23=0,"",(S23-Q23)/Q23*100) | V23: A16
A24: 预付款项合计 | F24: =SUM(F8:F23) -> 0 | G24: =SUM(G8:G23) -> 0 | H24: =SUM(H8:H23) -> 0 | I24: =SUM(I8:I23) -> 0 | J24: =SUM(J8:J23) -> 0 | K24: =SUM(K8:K23) -> 0 | L24: =SUM(F24:K24) -> 0 | P24: =SUM(P8:P23) -> 0 | Q24: =SUM(Q8:Q23) -> 0 | R24: =SUM(R8:R23) -> 0 | S24: =SUM(S8:S23) -> 0 | T24: =IF(Q24=0,"",(S24-Q24)/Q24*100)
A25: 减：预付款项坏账准备 | P25: =R24 -> 0 | Q25: =R24 -> 0 | S25: =Q25 -> 0 | T25: =IF(Q25=0,"",(S25-Q25)/Q25*100)
A26: 预付款项净额 | F26: =F24-F25 -> 0 | G26: =G24-G25 -> 0 | H26: =H24-H25 -> 0 | I26: =I24-I25 -> 0 | J26: =J24-J25 -> 0 | K26: =K24-K25 -> 0 | L26: =L24-L25 -> 0 | P26: =P24-P25 -> 0 | Q26: =Q24-Q25 -> 0 | S26: =S24-S25 -> 0 | T26: =IF(Q26=0,"",(S26-Q26)/Q26*100)
A27: =基本信息输入表!$K$6&"填表人："&基本信息输入表!$M$26 -> 产权持有人填表人：袁佳 | S27: ="评估人员："&基本信息输入表!$Q$26 -> 评估人员：韩策
A28: ="填表日期："&YEAR(基本信息输入表!$O$26)&"年"&MONTH(基本信息输入表!$O$26)&"月"&DAY(基本信息输入表!$O$26)&"日" -> 填表日期：2025年12月15日

Sheet 3-8其他应收款
A1: 返回索引目录
A2: 其他应收款评估明细表
A3: ="评估基准日："&TEXT(基本信息输入表!M7,"yyyy年mm月dd日") -> 评估基准日：2025年11月30日
U4: 表3-8
A5: =基本信息输入表!K6&"："&基本信息输入表!M6 -> 产权持有人：湖北省徽工生物技本研究有限公司 | U5: ="金额单位："&基本信息输入表!M10&"元" -> 金额单位：人民币元
A6: 序号 | B6: 欠款单位名称（结算对象) | C6: 业务内容 | D6: 最后一次 变动日期 | E6: 账龄（年） | F6: 账龄 | M6: 币种 | N6: 外币账面金额 | O6: 审定前账面价值 | P6: 审计前坏账准备 | Q6: 账面余额 | R6: 坏账准备 | S6: 评估价值 | T6: 增值率% | U6: 备注
F7: 1年以内 | G7: 1-2年 | H7: 2-3年 | I7: 3-4年 | J7: 4-5年 | K7: 5年以上 | L7: 合计 | V7: 唯一标识列
A8: =IF(B8="","",ROW()-7) | L8: =SUM(F8:K8) -> 0 | T8: =IF(Q8=0,"",(S8-Q8)/Q8*100) | V8: A1
A9: =IF(B9="","",ROW()-7) | L9: =SUM(F9:K9) -> 0 | T9: =IF(Q9=0,"",(S9-Q9)/Q9*100) | V9: A2
A10: =IF(B10="","",ROW()-7) | L10: =SUM(F10:K10) -> 0 | T10: =IF(Q10=0,"",(S10-Q10)/Q10*100) | V10: A3
A11: =IF(B11="","",ROW()-7) | L11: =SUM(F11:K11) -> 0 | T11: =IF(Q11=0,"",(S11-Q11)/Q11*100) | V11: A4
A12: =IF(B12="","",ROW()-7) | L12: =SUM(F12:K12) -> 0 | T12: =IF(Q12=0,"",(S12-Q12)/Q12*100) | V12: A5
A13: =IF(B13="","",ROW()-7) | L13: =SUM(F13:K13) -> 0 | T13: =IF(Q13=0,"",(S13-Q13)/Q13*100) | V13: A6
A14: =IF(B14="","",ROW()-7) | L14: =SUM(F14:K14) -> 0 | T14: =IF(Q14=0,"",(S14-Q14)/Q14*100) | V14: A7
A15: =IF(B15="","",ROW()-7) | L15: =SUM(F15:K15) -> 0 | T15: =IF(Q15=0,"",(S15-Q15)/Q15*100) | V15: A8
A16: =IF(B16="","",ROW()-7) | L16: =SUM(F16:K16) -> 0 | T16: =IF(Q16=0,"",(S16-Q16)/Q16*100) | V16: A9
A17: =IF(B17="","",ROW()-7) | L17: =SUM(F17:K17) -> 0 | T17: =IF(Q17=0,"",(S17-Q17)/Q17*100) | V17: A10
A18: =IF(B18="","",ROW()-7) | L18: =SUM(F18:K18) -> 0 | T18: =IF(Q18=0,"",(S18-Q18)/Q18*100) | V18: A11
A19: =IF(B19="","",ROW()-7) | L19: =SUM(F19:K19) -> 0 | T19: =IF(Q19=0,"",(S19-Q19)/Q19*100) | V19: A12
... A28: =IF(B28="","",ROW()-7) | L28: =SUM(F28:K28) -> 0 | T28: =IF(Q28=0,"",(S28-Q28)/Q28*100) | V28: A21
A29: 其他应收款合计 | F29: =SUM(F8:F28) -> 0 | G29: =SUM(G8:G28) -> 0 | H29: =SUM(H8:H28) -> 0 | I29: =SUM(I8:I28) -> 0 | J29: =SUM(J8:J28) -> 0 | K29: =SUM(K8:K28) -> 0 | L29: =SUM(F29:K29) -> 0 | O29: =SUM(O8:O28) -> 0 | P29: =SUM(P8:P28) -> 0 | Q29: =SUM(Q8:Q28) -> 0 | R29: =SUM(R8:R28) -> 0 | S29: =SUM(S8:S28) -> 0 | T29: =IF(Q29=0,"",(S29-Q29)/Q29*100)
A30: 减：坏账准备 | O30: =P29 -> 0 | Q30: =R29 -> 0 | T30: =IF(Q30=0,"",(S30-Q30)/Q30*100)
A31: 减：评估风险损失 | S31: =Q30 -> 0 | T31: =IF(Q31=0,"",(S31-Q31)/Q31*100)
A32: 其他应收款净额 | F32: =F29-F30 -> 0 | G32: =G29-G30 -> 0 | H32: =H29-H30 -> 0 | I32: =I29-I30 -> 0 | J32: =J29-J30 -> 0 | K32: =K29-K30 -> 0 | L32: =L29-L30 -> 0 | O32: =O29-O30 -> 0 | Q32: =Q29-Q30 -> 0 | S32: =S29-S31 -> 0 | T32: =IF(Q32=0,"",(S32-Q32)/Q32*100)
A33: =基本信息输入表!$K$6&"填表人："&基本信息输入表!$M$27 -> 产权持有人填表人：袁佳 | S33: ="评估人员："&基本信息输入表!$Q$27 -> 评估人员：韩策
A34: ="填表日期："&YEAR(基本信息输入表!$O$27)&"年"&MONTH(基本信息输入表!$O$27)&"月"&DAY(基本信息输入表!$O$27)&"日" -> 填表日期：2025年12月15日

Sheet 3-9存货汇总
A1: 返回索引目录
A2: 存货评估汇总表
A3: ="评估基准日："&TEXT(基本信息输入表!M7,"yyyy年mm月dd日") -> 评估基准日：2025年11月30日
H4: 表3-9
A5: =基本信息输入表!K6&"："&基本信息输入表!M6 -> 产权持有人：湖北省徽工生物技本研究有限公司 | H5: ="金额单位："&基本信息输入表!M10&"元" -> 金额单位：人民币元
A6: 编号 | B6: 科目名称 | C6: 审定前账面价值 | D6: 账面价值 | E6: 计提跌价准备金额 | F6: 评估价值 | G6: 增减值 | H6: 增值率%
A7: 3-9-1 | B7: 材料采购（在途物资） | D7: ='3-9-1材料采购（在途物资）'!H25 -> 0 | E7: ='3-9-1材料采购（在途物资）'!I25 -> 0 | F7: ='3-9-1材料采购（在途物资）'!L27 -> 0 | G7: =F7-D7+E7 -> 0 | H7: =IF(D7-E7=0,"",(F7-D7+E7)/(D7-E7)*100)
A8: 3-9-2 | B8: 原材料 | D8: ='3-9-2原材料'!I35 -> 0 | E8: ='3-9-2原材料'!J35 -> 0 | F8: ='3-9-2原材料'!O37 -> 0 | G8: =F8-D8+E8 -> 0 | H8: =IF(D8-E8=0,"",(F8-D8+E8)/(D8-E8)*100)
A9: 3-9-3 | B9: 在库周转材料 | D9: ='3-9-3在库周转材料'!I29 -> 0 | E9: ='3-9-3在库周转材料'!J29 -> 0 | F9: ='3-9-3在库周转材料'!O31 -> 0 | G9: =F9-D9+E9 -> 0 | H9: =IF(D9-E9=0,"",(F9-D9+E9)/(D9-E9)*100)
A10: 3-9-4 | B10: 委托加工物资 | D10: ='3-9-4委托加工物资'!I25 -> 0 | E10: ='3-9-4委托加工物资'!J25 -> 0 | F10: ='3-9-4委托加工物资'!M27 -> 0 | G10: =F10-D10+E10 -> 0 | H10: =IF(D10-E10=0,"",(F10-D10+E10)/(D10-E10)*100)
A11: 3-9-5 | B11: 产成品（库存商品） | D11: ='3-9-5产成品（库存商品）'!K25 -> 0 | E11: ='3-9-5产成品（库存商品）'!L25 -> 0 | F11: ='3-9-5产成品（库存商品）'!O27 -> 0 | G11: =F11-D11+E11 -> 0 | H11: =IF(D11-E11=0,"",(F11-D11+E11)/(D11-E11)*100)
A12: 3-9-6 | B12: 在产品（自制半成品） | D12: ='3-9-6在产品（自制半成品）'!H25 -> 0 | E12: ='3-9-6在产品（自制半成品）'!I25 -> 0 | F12: ='3-9-6在产品（自制半成品）'!M27 -> 0 | G12: =F12-D12+E12 -> 0 | H12: =IF(D12-E12=0,"",(F12-D12+E12)/(D12-E12)*100)
A13: 3-9-7 | B13: 发出商品 | D13: ='3-9-7发出商品'!I25 -> 0 | E13: ='3-9-7发出商品'!J25 -> 0 | F13: ='3-9-7发出商品'!M27 -> 0 | G13: =F13-D13+E13 -> 0 | H13: =IF(D13-E13=0,"",(F13-D13+E13)/(D13-E13)*100)
A14: 3-9-8 | B14: 在用周转材料 | D14: ='3-9-8在用周转材料'!I25 -> 0 | E14: ='3-9-8在用周转材料'!J25 -> 0 | F14: ='3-9-8在用周转材料'!N27 -> 0 | G14: =F14-D14+E14 -> 0 | H14: =IF(D14-E14=0,"",(F14-D14+E14)/(D14-E14)*100)
A15: 3-9-9 | B15: 开发产品 | D15: ='3-9-9开发产品'!U25 -> 0 | E15: ='3-9-9开发产品'!V25 -> 0 | F15: ='3-9-9开发产品'!X27 -> 0 | G15: =F15-D15+E15 -> 0 | H15: =IF(D15-E15=0,"",(F15-D15+E15)/(D15-E15)*100)
A16: 3-9-10 | B16: 开发成本 | D16: ='3-9-10开发成本'!V25 -> 0 | E16: ='3-9-10开发成本'!W25 -> 0 | F16: ='3-9-10开发成本'!Y27 -> 0 | G16: =F16-D16+E16 -> 0 | H16: =IF(D16-E16=0,"",(F16-D16+E16)/(D16-E16)*100)
A17: 3-9-11 | B17: 消耗性生物资产 | D17: ='3-9-11消耗性生物资产'!K25 -> 0 | E17: ='3-9-11消耗性生物资产'!L25 -> 0 | F17: ='3-9-11消耗性生物资产'!O27 -> 0 | G17: =F17-D17+E17 -> 0 | H17: =IF(D17-E17=0,"",(F17-D17+E17)/(D17-E17)*100)
A18: 3-9-12 | B18: 工程施工 | D18: ='3-9-12工程施工'!Z27 -> 0 | F18: ='3-9-12工程施工'!AC27 -> 0 | G18: =F18-D18+E18 -> 0 | H18: =IF(D18-E18=0,"",(F18-D18+E18)/(D18-E18)*100)
A25: 存货合计 | C25: =SUM(C7:C24) -> 0 | D25: =SUM(D7:D24) -> 0 | E25: =SUM(E7:E24) -> 0 | F25: =SUM(F7:F24) -> 0 | G25: =F25-D25+E25 -> 0 | H25: =IF(D25-E25=0,"",(F25-D25+E25)/(D25-E25)*100)
A26: 减：存货跌价准备 | C26: =E25 -> 0 | D26: =E25 -> 0
A27: 存货净额 | C27: =C25-C26 -> 0 | D27: =D25-D26 -> 0 | F27: =F25 -> 0 | G27: =F27-D27 -> 0 | H27: =IF(D27-E27=0,"",(F27-D27+E27)/(D27-E27)*100)
F28: ="评估人员："&基本信息输入表!$Q$28 -> 评估人员：韩策

Sheet 3-9-1材料采购（在途物资）
A1: 返回索引目录
A2: 存货—材料采购（在途物资）评估明细表
A3: ="评估基准日："&TEXT(基本信息输入表!M7,"yyyy年mm月dd日") -> 评估基准日：2025年11月30日
N4: 表3-9-1
A5: =基本信息输入表!K6&"："&基本信息输入表!M6 -> 产权持有人：湖北省徽工生物技本研究有限公司 | N5: ="金额单位："&基本信息输入表!M10&"元" -> 金额单位：人民币元
A6: 序号 | B6: 名称及规格型号 | C6: 计量单位 | D6: 审定前账面价值 | F6: 账面价值 | I6: 计提跌价准备金额 | J6: 评估价值 | M6: 增值率% | N6: 备注
D7: 数量 | E7: 金额 | F7: 数量 | G7: 单价 | H7: 金额 | J7: 实际数量 | K7: 评估单价 | L7: 金额 | O7: 唯一标识列
A8: =IF(B8="","",ROW()-7) | L8: =J8*K8 -> 0 | M8: =IF(H8=0,"",(L8-H8)/H8*100) | O8: A1
A9: =IF(B9="","",ROW()-7) | L9: =J9*K9 -> 0 | M9: =IF(H9=0,"",(L9-H9)/H9*100) | O9: A2
A10: =IF(B10="","",ROW()-7) | L10: =J10*K10 -> 0 | M10: =IF(H10=0,"",(L10-H10)/H10*100) | O10: A3
A11: =IF(B11="","",ROW()-7) | L11: =J11*K11 -> 0 | M11: =IF(H11=0,"",(L11-H11)/H11*100) | O11: A4
A12: =IF(B12="","",ROW()-7) | L12: =J12*K12 -> 0 | M12: =IF(H12=0,"",(L12-H12)/H12*100) | O12: A5
A13: =IF(B13="","",ROW()-7) | L13: =J13*K13 -> 0 | M13: =IF(H13=0,"",(L13-H13)/H13*100) | O13: A6
A14: =IF(B14="","",ROW()-7) | L14: =J14*K14 -> 0 | M14: =IF(H14=0,"",(L14-H14)/H14*100) | O14: A7
A15: =IF(B15="","",ROW()-7) | L15: =J15*K15 -> 0 | M15: =IF(H15=0,"",(L15-H15)/H15*100) | O15: A8
A16: =IF(B16="","",ROW()-7) | L16: =J16*K16 -> 0 | M16: =IF(H16=0,"",(L16-H16)/H16*100) | O16: A9
A17: =IF(B17="","",ROW()-7) | L17: =J17*K17 -> 0 | M17: =IF(H17=0,"",(L17-H17)/H17*100) | O17: A10
A18: =IF(B18="","",ROW()-7) | L18: =J18*K18 -> 0 | M18: =IF(H18=0,"",(L18-H18)/H18*100) | O18: A11
A19: =IF(B19="","",ROW()-7) | L19: =J19*K19 -> 0 | M19: =IF(H19=0,"",(L19-H19)/H19*100) | O19: A12
... A24: =IF(B24="","",ROW()-7) | L24: =J24*K24 -> 0 | M24: =IF(H24=0,"",(L24-H24)/H24*100) | O24: A17
A25: 材料采购（在途物资）合计 | E25: =SUM(E8:E24) -> 0 | H25: =SUM(H8:H24) -> 0 | I25: =SUM(I8:I24) -> 0 | L25: =SUM(L8:L24) -> 0 | M25: =IF(H25=0,"",(L25-H25)/H25*100)
A26: 减：材料采购（在途物资）跌价准备 | E26: =I25 -> 0 | H26: =I25 -> 0
A27: 材料采购（在途物资）净额 | E27: =E25-E26 -> 0 | H27: =H25-H26 -> 0 | L27: =L25-L26 -> 0 | M27: =IF(H27=0,"",(L27-H27)/H27*100)
A28: =基本信息输入表!$K$6&"填表人："&基本信息输入表!$M$29 -> 产权持有人填表人：袁佳 | L28: ="评估人员："&基本信息输入表!$Q$29 -> 评估人员：韩策
A29: ="填表日期："&YEAR(基本信息输入表!$O$29)&"年"&MONTH(基本信息输入表!$O$29)&"月"&DAY(基本信息输入表!$O$29)&"日" -> 填表日期：2025年12月15日

Sheet 3-9-2原材料
A1: 返回索引目录
A2: 存货—原材料评估明细表
A3: ="评估基准日："&TEXT(基本信息输入表!M7,"yyyy年mm月dd日") -> 评估基准日：2025年11月30日
Q4: 表3-9-2
A5: =基本信息输入表!K6&"："&基本信息输入表!M6 -> 产权持有人：湖北省徽工生物技本研究有限公司 | Q5: ="金额单位："&基本信息输入表!M10&"元" -> 金额单位：人民币元
A6: 序号 | B6: 名称及规格型号 | C6: 计量单位 | D6: 存放地点 | E6: 审定前账面价值 | G6: 账面价值 | J6: 计提跌价准备金额 | K6: 购进年月 | L6: 基准日近期单价 | M6: 评估价值 | P6: 增值率% | Q6: 备注
E7: 数量 | F7: 金额 | G7: 数量 | H7: 单价 | I7: 金额 | M7: 实际数量 | N7: 评估单价 | O7: 金额 | R7: 唯一标识列
A8: =IF(B8="","",ROW()-7) | O8: =M8*N8 -> 0 | P8: =IF(I8-J8=0,"",(O8-I8+J8)/(I8-J8)*100) | R8: A1
A9: =IF(B9="","",ROW()-7) | O9: =M9*N9 -> 0 | P9: =IF(I9-J9=0,"",(O9-I9+J9)/(I9-J9)*100) | R9: A2
A10: =IF(B10="","",ROW()-7) | O10: =M10*N10 -> 0 | P10: =IF(I10-J10=0,"",(O10-I10+J10)/(I10-J10)*100) | R10: A3
A11: =IF(B11="","",ROW()-7) | O11: =M11*N11 -> 0 | P11: =IF(I11-J11=0,"",(O11-I11+J11)/(I11-J11)*100) | R11: A4
A12: =IF(B12="","",ROW()-7) | O12: =M12*N12 -> 0 | P12: =IF(I12-J12=0,"",(O12-I12+J12)/(I12-J12)*100) | R12: A5
A13: =IF(B13="","",ROW()-7) | O13: =M13*N13 -> 0 | P13: =IF(I13-J13=0,"",(O13-I13+J13)/(I13-J13)*100) | R13: A6
A14: =IF(B14="","",ROW()-7) | O14: =M14*N14 -> 0 | P14: =IF(I14-J14=0,"",(O14-I14+J14)/(I14-J14)*100) | R14: A7
A15: =IF(B15="","",ROW()-7) | O15: =M15*N15 -> 0 | P15: =IF(I15-J15=0,"",(O15-I15+J15)/(I15-J15)*100) | R15: A8
A16: =IF(B16="","",ROW()-7) | O16: =M16*N16 -> 0 | P16: =IF(I16-J16=0,"",(O16-I16+J16)/(I16-J16)*100) | R16: A9
A17: =IF(B17="","",ROW()-7) | O17: =M17*N17 -> 0 | P17: =IF(I17-J17=0,"",(O17-I17+J17)/(I17-J17)*100) | R17: A10
A18: =IF(B18="","",ROW()-7) | O18: =M18*N18 -> 0 | P18: =IF(I18-J18=0,"",(O18-I18+J18)/(I18-J18)*100) | R18: A11
A19: =IF(B19="","",ROW()-7) | O19: =M19*N19 -> 0 | P19: =IF(I19-J19=0,"",(O19-I19+J19)/(I19-J19)*100) | R19: A12
... A34: =IF(B34="","",ROW()-7) | O34: =M34*N34 -> 0 | P34: =IF(I34-J34=0,"",(O34-I34+J34)/(I34-J34)*100) | R34: A27
A35: 原材料合计 | F35: =SUM(F8:F34) -> 0 | I35: =SUM(I8:I34) -> 0 | J35: =SUM(J8:J34) -> 0 | O35: =SUM(O8:O34) -> 0 | P35: =IF(I35-J35=0,"",(O35-I35+J35)/(I35-J35)*100)
A36: 减：原材料跌价准备 | F36: =J35 -> 0 | I36: =J35 -> 0
A37: 原材料净额 | F37: =F35-F36 -> 0 | I37: =I35-I36 -> 0 | O37: =O35 -> 0 | P37: =IF(I37-J37=0,"",(O37-I37+J37)/(I37-J37)*100)
A38: =基本信息输入表!$K$6&"填表人："&基本信息输入表!$M$30 -> 产权持有人填表人：袁佳 | O38: ="评估人员："&基本信息输入表!$Q$30 -> 评估人员：韩策
A39: ="填表日期："&YEAR(基本信息输入表!$O$30)&"年"&MONTH(基本信息输入表!$O$30)&"月"&DAY(基本信息输入表!$O$30)&"日" -> 填表日期：2025年12月15日

Sheet 3-9-3在库周转材料
A1: 返回索引目录
A2: 存货—在库周转材料评估明细表
A3: ="评估基准日："&TEXT(基本信息输入表!M7,"yyyy年mm月dd日") -> 评估基准日：2025年11月30日
Q4: 表3-9-3
A5: =基本信息输入表!K6&"："&基本信息输入表!M6 -> 产权持有人：湖北省徽工生物技本研究有限公司 | Q5: ="金额单位："&基本信息输入表!M10&"元" -> 金额单位：人民币元
A6: 序号 | B6: 名称及规格型号 | C6: 计量单位 | D6: 存放地点 | E6: 审定前账面金额 | G6: 账面价值 | J6: 计提跌价准备金额 | K6: 购进年月 | L6: 基准日近期单价 | M6: 评估价值 | P6: 增值率% | Q6: 备注
E7: 数量 | F7: 金额 | G7: 数量 | H7: 单价 | I7: 金额 | M7: 实际数量 | N7: 评估单价 | O7: 金额 | R7: 唯一标识列
A8: =IF(B8="","",ROW()-7) | O8: =M8*N8 -> 0 | P8: =IF(I8-J8=0,"",(O8-I8+J8)/(I8-J8)*100) | R8: A1
A9: =IF(B9="","",ROW()-7) | O9: =M9*N9 -> 0 | P9: =IF(I9-J9=0,"",(O9-I9+J9)/(I9-J9)*100) | R9: A2
A10: =IF(B10="","",ROW()-7) | O10: =M10*N10 -> 0 | P10: =IF(I10-J10=0,"",(O10-I10+J10)/(I10-J10)*100) | R10: A3
A11: =IF(B11="","",ROW()-7) | O11: =M11*N11 -> 0 | P11: =IF(I11-J11=0,"",(O11-I11+J11)/(I11-J11)*100) | R11: A4
A12: =IF(B12="","",ROW()-7) | O12: =M12*N12 -> 0 | P12: =IF(I12-J12=0,"",(O12-I12+J12)/(I12-J12)*100) | R12: A5
A13: =IF(B13="","",ROW()-7) | O13: =M13*N13 -> 0 | P13: =IF(I13-J13=0,"",(O13-I13+J13)/(I13-J13)*100) | R13: A6
A14: =IF(B14="","",ROW()-7) | O14: =M14*N14 -> 0 | P14: =IF(I14-J14=0,"",(O14-I14+J14)/(I14-J14)*100) | R14: A7
A15: =IF(B15="","",ROW()-7) | O15: =M15*N15 -> 0 | P15: =IF(I15-J15=0,"",(O15-I15+J15)/(I15-J15)*100) | R15: A8
A16: =IF(B16="","",ROW()-7) | O16: =M16*N16 -> 0 | P16: =IF(I16-J16=0,"",(O16-I16+J16)/(I16-J16)*100) | R16: A9
A17: =IF(B17="","",ROW()-7) | O17: =M17*N17 -> 0 | P17: =IF(I17-J17=0,"",(O17-I17+J17)/(I17-J17)*100) | R17: A10
A18: =IF(B18="","",ROW()-7) | O18: =M18*N18 -> 0 | P18: =IF(I18-J18=0,"",(O18-I18+J18)/(I18-J18)*100) | R18: A11
A19: =IF(B19="","",ROW()-7) | O19: =M19*N19 -> 0 | P19: =IF(I19-J19=0,"",(O19-I19+J19)/(I19-J19)*100) | R19: A12
... A28: =IF(B28="","",ROW()-7) | O28: =M28*N28 -> 0 | P28: =IF(I28-J28=0,"",(O28-I28+J28)/(I28-J28)*100) | R28: A21
A29: 在用周转材料合计 | F29: =SUM(F8:F28) -> 0 | I29: =SUM(I8:I28) -> 0 | J29: =SUM(J8:J28) -> 0 | O29: =SUM(O8:O28) -> 0 | P29: =IF(I29-J29=0,"",(O29-I29+J29)/(I29-J29)*100)
A30: 减：在用周转材料跌价准备 | F30: =J29 -> 0 | I30: =J29 -> 0
A31: 在用周转材料净额 | F31: =F29-F30 -> 0 | I31: =I29-I30 -> 0 | O31: =O29-O30 -> 0 | P31: =IF(I31-J31=0,"",(O31-I31+J31)/(I31-J31)*100)
A32: =基本信息输入表!$K$6&"填表人："&基本信息输入表!$M$31 -> 产权持有人填表人：袁佳 | O32: ="评估人员："&基本信息输入表!$Q$31 -> 评估人员：韩策
A33: ="填表日期："&YEAR(基本信息输入表!$O$31)&"年"&MONTH(基本信息输入表!$O$31)&"月"&DAY(基本信息输入表!$O$31)&"日" -> 填表日期：2025年12月15日

Sheet 3-9-4委托加工物资
A1: 返回索引目录
A2: 存货—委托加工物资评估明细表
A3: ="评估基准日："&TEXT(基本信息输入表!M7,"yyyy年mm月dd日") -> 评估基准日：2025年11月30日
N4: 表3-9-4
A5: =基本信息输入表!K6&"："&基本信息输入表!M6 -> 产权持有人：湖北省徽工生物技本研究有限公司 | O5: ="金额单位："&基本信息输入表!M10&"元" -> 金额单位：人民币元
A6: 序号 | B6: 名称及规格型号 | C6: 加工单位名称 | D6: 计量单位 | E6: 审定前账面价值 | G6: 账面价值 | J6: 计提跌价准备金额 | K6: 评估价值 | N6: 增值率% | O6: 备注
E7: 数量 | F7: 金额 | G7: 数量 | H7: 单价 | I7: 金额 | K7: 实际数量 | L7: 评估单价 | M7: 金额 | P7: 唯一标识列
A8: =IF(B8="","",ROW()-7) | M8: =K8*L8 -> 0 | N8: =IF(I8-J8=0,"",(M8-I8+J8)/(I8-J8)*100) | P8: A1
A9: =IF(B9="","",ROW()-7) | M9: =K9*L9 -> 0 | N9: =IF(I9-J9=0,"",(M9-I9+J9)/(I9-J9)*100) | P9: A2
A10: =IF(B10="","",ROW()-7) | M10: =K10*L10 -> 0 | N10: =IF(I10-J10=0,"",(M10-I10+J10)/(I10-J10)*100) | P10: A3
A11: =IF(B11="","",ROW()-7) | M11: =K11*L11 -> 0 | N11: =IF(I11-J11=0,"",(M11-I11+J11)/(I11-J11)*100) | P11: A4
A12: =IF(B12="","",ROW()-7) | M12: =K12*L12 -> 0 | N12: =IF(I12-J12=0,"",(M12-I12+J12)/(I12-J12)*100) | P12: A5
A13: =IF(B13="","",ROW()-7) | M13: =K13*L13 -> 0 | N13: =IF(I13-J13=0,"",(M13-I13+J13)/(I13-J13)*100) | P13: A6
A14: =IF(B14="","",ROW()-7) | M14: =K14*L14 -> 0 | N14: =IF(I14-J14=0,"",(M14-I14+J14)/(I14-J14)*100) | P14: A7
A15: =IF(B15="","",ROW()-7) | M15: =K15*L15 -> 0 | N15: =IF(I15-J15=0,"",(M15-I15+J15)/(I15-J15)*100) | P15: A8
A16: =IF(B16="","",ROW()-7) | M16: =K16*L16 -> 0 | N16: =IF(I16-J16=0,"",(M16-I16+J16)/(I16-J16)*100) | P16: A9
A17: =IF(B17="","",ROW()-7) | M17: =K17*L17 -> 0 | N17: =IF(I17-J17=0,"",(M17-I17+J17)/(I17-J17)*100) | P17: A10
A18: =IF(B18="","",ROW()-7) | M18: =K18*L18 -> 0 | N18: =IF(I18-J18=0,"",(M18-I18+J18)/(I18-J18)*100) | P18: A11
A19: =IF(B19="","",ROW()-7) | M19: =K19*L19 -> 0 | N19: =IF(I19-J19=0,"",(M19-I19+J19)/(I19-J19)*100) | P19: A12
... A24: =IF(B24="","",ROW()-7) | M24: =K24*L24 -> 0 | N24: =IF(I24-J24=0,"",(M24-I24+J24)/(I24-J24)*100) | P24: A17
A25: 委托加工物资合计 | F25: =SUM(F8:F24) -> 0 | I25: =SUM(I8:I24) -> 0 | J25: =SUM(J8:J24) -> 0 | M25: =SUM(M8:M24) -> 0 | N25: =IF(I25-J25=0,"",(M25-I25+J25)/(I25-J25)*100)
A26: 减：委托加工物资跌价准备 | F26: =J25 -> 0 | I26: =J25 -> 0
A27: 委托加工物资净额 | F27: =F25-F26 -> 0 | I27: =I25-I26 -> 0 | M27: =M25-M26 -> 0 | N27: =IF(I27-J27=0,"",(M27-I27+J27)/(I27-J27)*100)
A28: =基本信息输入表!$K$6&"填表人："&基本信息输入表!$M$32 -> 产权持有人填表人：袁佳 | M28: ="评估人员："&基本信息输入表!$Q$32 -> 评估人员：韩策
A29: ="填表日期："&YEAR(基本信息输入表!$O$32)&"年"&MONTH(基本信息输入表!$O$32)&"月"&DAY(基本信息输入表!$O$32)&"日" -> 填表日期：2025年12月15日

Sheet 3-9-5产成品（库存商品）
A1: 返回索引目录 | AB1: 名称 | AD1: 产品销售收入 | AE1: 产品销售费用 | AF1: 销售税金及附加 | AG1: 单独计算附加时 | AH1: 所得税 | AI1: 其他税费 | AJ1: 利润
A2: 存货—产成品（库存商品、开发产品、农产品）评估明细表 | AB2: 金额 | AC2: 本期
A3: ="评估基准日："&TEXT(基本信息输入表!M7,"yyyy年mm月dd日") -> 评估基准日：2025年11月30日 | AC3: 上年
Q4: 表3-9-5 | AC4: 前年
A5: =基本信息输入表!K6&"："&基本信息输入表!M6 -> 产权持有人：湖北省徽工生物技本研究有限公司 | Q5: ="金额单位："&基本信息输入表!M10&"元" -> 金额单位：人民币元 | AB5: 占收入比率％ | AC5: 本期 | AE5: =AE2/AD2 -> #DIV/0! | AF5: =AF2/AD2 -> #DIV/0! | AG5: =AG2/AD2 -> #DIV/0! | AH5: =AH2/AD2 -> #DIV/0! | AI5: =AI2/AD2 -> #DIV/0! | AJ5: =AJ2/AD2 -> #DIV/0!
A6: 序号 | B6: 名 称 | C6: 规格型号 | D6: 计量单位 | E6: 基准日不含增值税销售单价 | F6: 销售状态 畅销/正常/滞销 | G6: 审定前账面价值 | I6: 账面价值 | L6: 计提跌价准备金额 | M6: 评估价值 | P6: 增值率% | Q6: 备注 | S6: 扣除率 | AC6: 上年 | AE6: =AE3/AD3 -> #DIV/0! | AF6: =AF3/AD3 -> #DIV/0! | AG6: =AG3/AD3 -> #DIV/0! | AH6: =AH3/AD3 -> #DIV/0! | AI6: =AI3/AD3 -> #DIV/0! | AJ6: =AJ3/AD3 -> #DIV/0!
G7: 数量 | H7: 金额 | I7: 数量 | J7: 单价 | K7: 金额 | M7: 实际数量 | N7: 评估单价 | O7: 金额 | R7: 唯一标识列 | S7: 销售费用率 | T7: 流转税率 | U7: 附加税率 | V7: 所得税率 | W7: 其他税费率 | X7: 利润率 | Y7: 合计 | AC7: 前年 | AE7: =AE4/AD4 -> #DIV/0! | AF7: =AF4/AD4 -> #DIV/0! | AG7: =AG4/AD4 -> #DIV/0! | AH7: =AH4/AD4 -> #DIV/0! | AI7: =AI4/AD4 -> #DIV/0! | AJ7: =AJ4/AD4 -> #DIV/0!
A8: =IF(B8="","",ROW()-7) | O8: =M8*N8 -> 0 | P8: =IF(K8-L8=0,"",(O8-K8+L8)/(K8-L8)*100) | R8: A1 | AA8: 畅销 | AB8: 选择参数
A9: =IF(B9="","",ROW()-7) | O9: =M9*N9 -> 0 | R9: A2 | AA9: 正常
A10: =IF(B10="","",ROW()-7) | O10: =M10*N10 -> 0 | P10: =IF(K10-L10=0,"",(O10-K10+L10)/(K10-L10)*100) | R10: A3 | AA10: 滞销
A11: =IF(B11="","",ROW()-7) | O11: =M11*N11 -> 0 | P11: =IF(K11-L11=0,"",(O11-K11+L11)/(K11-L11)*100) | R11: A4
A12: =IF(B12="","",ROW()-7) | O12: =M12*N12 -> 0 | P12: =IF(K12-L12=0,"",(O12-K12+L12)/(K12-L12)*100) | R12: A5
A13: =IF(B13="","",ROW()-7) | O13: =M13*N13 -> 0 | P13: =IF(K13-L13=0,"",(O13-K13+L13)/(K13-L13)*100) | R13: A6
A14: =IF(B14="","",ROW()-7) | O14: =M14*N14 -> 0 | P14: =IF(K14-L14=0,"",(O14-K14+L14)/(K14-L14)*100) | R14: A7
A15: =IF(B15="","",ROW()-7) | O15: =M15*N15 -> 0 | P15: =IF(K15-L15=0,"",(O15-K15+L15)/(K15-L15)*100) | R15: A8
A16: =IF(B16="","",ROW()-7) | O16: =M16*N16 -> 0 | P16: =IF(K16-L16=0,"",(O16-K16+L16)/(K16-L16)*100) | R16: A9
A17: =IF(B17="","",ROW()-7) | O17: =M17*N17 -> 0 | P17: =IF(K17-L17=0,"",(O17-K17+L17)/(K17-L17)*100) | R17: A10
A18: =IF(B18="","",ROW()-7) | O18: =M18*N18 -> 0 | P18: =IF(K18-L18=0,"",(O18-K18+L18)/(K18-L18)*100) | R18: A11
A19: =IF(B19="","",ROW()-7) | O19: =M19*N19 -> 0 | P19: =IF(K19-L19=0,"",(O19-K19+L19)/(K19-L19)*100) | R19: A12
A20: =IF(B20="","",ROW()-7) | O20: =M20*N20 -> 0 | P20: =IF(K20-L20=0,"",(O20-K20+L20)/(K20-L20)*100) | R20: A13
A21: =IF(B21="","",ROW()-7) | O21: =M21*N21 -> 0 | P21: =IF(K21-L21=0,"",(O21-K21+L21)/(K21-L21)*100) | R21: A14
A22: =IF(B22="","",ROW()-7) | O22: =M22*N22 -> 0 | P22: =IF(K22-L22=0,"",(O22-K22+L22)/(K22-L22)*100) | R22: A15
... A24: =IF(B24="","",ROW()-7) | O24: =M24*N24 -> 0 | P24: =IF(K24-L24=0,"",(O24-K24+L24)/(K24-L24)*100) | R24: A17
A25: 产成品（库存商品）合计 | H25: =SUM(H8:H24) -> 0 | K25: =SUM(K8:K24) -> 0 | L25: =SUM(L8:L24) -> 0 | O25: =SUM(O8:O24) -> 0 | P25: =IF(K25-L25=0,"",(O25-K25+L25)/(K25-L25)*100)
A26: 减：产成品（库存商品）跌价准备 | H26: =L25 -> 0 | K26: =L25 -> 0
A27: 产成品（库存商品）净额 | H27: =H25-H26 -> 0 | K27: =K25-K26 -> 0 | O27: =O25-O26 -> 0 | P27: =IF(K27-L27=0,"",(O27-K27+L27)/(K27-L27)*100)
A28: =基本信息输入表!$K$6&"填表人："&基本信息输入表!$M$33 -> 产权持有人填表人：袁佳 | O28: ="评估人员："&基本信息输入表!$Q$33 -> 评估人员：韩策
A29: ="填表日期："&YEAR(基本信息输入表!$O$33)&"年"&MONTH(基本信息输入表!$O$33)&"月"&DAY(基本信息输入表!$O$33)&"日" -> 填表日期：2025年12月15日

Sheet 3-9-6在产品（自制半成品）
A1: 返回索引目录
A2: 存货—在产品（自制半成品）评估明细表
A3: ="评估基准日："&TEXT(基本信息输入表!M7,"yyyy年mm月dd日") -> 评估基准日：2025年11月30日
O4: 表3-9-6
A5: =基本信息输入表!K6&"："&基本信息输入表!M6 -> 产权持有人：湖北省徽工生物技本研究有限公司 | O5: ="金额单位："&基本信息输入表!M10&"元" -> 金额单位：人民币元
A6: 序号 | B6: 名称及规格型号 | C6: 计量单位 | D6: 审定前账面价值 | F6: 账面价值 | I6: 计提准备跌价金额 | J6: 完工程度% | K6: 评估价值 | N6: 增值率% | O6: 备注
D7: 数量 | E7: 金额 | F7: 数量 | G7: 单价 | H7: 金额 | K7: 实际数量 | L7: 评估单价 | M7: 金额 | P7: 唯一标识列
